BEGIN:VCALENDAR
VERSION:2.0
PRODID:-//wp-events-plugin.com//7.2.3.1//EN
BEGIN:VEVENT
UID:105@pilegrimsfellesskapet.no
DTSTART;TZID=Europe/Oslo:20210902T190000
DTEND;TZID=Europe/Oslo:20210902T213000
DTSTAMP:20210823T152004Z
URL:https://www.pilegrimsfellesskapet.no/arrangement/medlemsmote-i-pso/
SUMMARY:Medlemsmøte i PSO
DESCRIPTION:Pilegrimsfellesskapet St. Olav inviterer til medlemsmøte om or
 ganisasjonsutvikling.
ATTACH;FMTTYPE=image/jpeg:https://www.pilegrimsfellesskapet.no/wp-content/
 uploads/2021/08/Nidaros-pilegrimsgard.jpg
CATEGORIES:Møter
LOCATION:Nidaros Pilegrimsgård\, Kjøpmannsgata 1\, Trondheim\, Trøndelag
 \, 7013\, Trøndelag\, Norway
X-APPLE-STRUCTURED-LOCATION;VALUE=URI;X-ADDRESS=Kjøpmannsgata 1\, Trondhei
 m\, Trøndelag\, 7013\, Trøndelag\, Norway;X-APPLE-RADIUS=100;X-TITLE=Nid
 aros Pilegrimsgård:geo:0,0
END:VEVENT
BEGIN:VTIMEZONE
TZID:Europe/Oslo
X-LIC-LOCATION:Europe/Oslo
BEGIN:DAYLIGHT
DTSTART:20210328T030000
TZOFFSETFROM:+0100
TZOFFSETTO:+0200
TZNAME:CEST
END:DAYLIGHT
END:VTIMEZONE
END:VCALENDAR