BEGIN:VCALENDAR
VERSION:2.0
PRODID:-//wp-events-plugin.com//7.2.3.1//EN
BEGIN:VEVENT
UID:364@pilegrimsfellesskapet.no
DTSTART;TZID=Europe/Oslo:20240608T100000
DTEND;TZID=Europe/Oslo:20240608T163000
DTSTAMP:20240507T115215Z
URL:https://www.pilegrimsfellesskapet.no/arrangement/middelalderkirkevandr
 ing-fra-nesodden-kirke-til-nesoddtangen/
SUMMARY:Middelalderkirkevandring - på kyststien fra Nesodden kirke til Nes
 oddtangen
DESCRIPTION:Pilegrimsfellesskapet St. Hallvard av Oslo inviterer til førso
 mmerlig pilegrimsvandring langs Nesoddens østre bredd.
ATTACH;FMTTYPE=image/jpeg:https://www.pilegrimsfellesskapet.no/wp-content/
 uploads/2024/04/Nesodden-1.jpg
CATEGORIES:Dagsvandring,Kystpilegrim,Pilegrimsfellesskapet St. Hallvard av
 Oslo
END:VEVENT
BEGIN:VTIMEZONE
TZID:Europe/Oslo
X-LIC-LOCATION:Europe/Oslo
BEGIN:DAYLIGHT
DTSTART:20240331T030000
TZOFFSETFROM:+0100
TZOFFSETTO:+0200
TZNAME:CEST
END:DAYLIGHT
END:VTIMEZONE
END:VCALENDAR