BEGIN:VCALENDAR
VERSION:2.0
PRODID:-//wp-events-plugin.com//7.2.3.1//EN
BEGIN:VEVENT
UID:55@pilegrimsfellesskapet.no
DTSTART;TZID=Europe/Oslo:20210119T170000
DTEND;TZID=Europe/Oslo:20210119T180000
DTSTAMP:20210117T184705Z
URL:https://www.pilegrimsfellesskapet.no/arrangement/mote-i-nidarosutvalge
 t-3/
SUMMARY:Møte i Nidarosutvalget
DESCRIPTION:Nidarosutvalget skal ha møte online.\nHar dere innspill til os
 s\, kan dere gjerne sende disse inn på mail til nidaros.pilgrim [at] gmai
 l.com
CATEGORIES:Møter
END:VEVENT
BEGIN:VTIMEZONE
TZID:Europe/Oslo
X-LIC-LOCATION:Europe/Oslo
BEGIN:STANDARD
DTSTART:20201025T020000
TZOFFSETFROM:+0200
TZOFFSETTO:+0100
TZNAME:CET
END:STANDARD
END:VTIMEZONE
END:VCALENDAR