BEGIN:VCALENDAR
VERSION:2.0
PRODID:-//wp-events-plugin.com//7.2.3.1//EN
BEGIN:VEVENT
UID:147@pilegrimsfellesskapet.no
DTSTART;TZID=Europe/Oslo:20220512T173000
DTEND;TZID=Europe/Oslo:20220512T213000
DTSTAMP:20220421T151141Z
URL:https://www.pilegrimsfellesskapet.no/arrangement/nes-kirkeruin/
SUMMARY:NES: Kirke\, kirkeruin og hov i elvemøtet Vorma/Glomma
DESCRIPTION:\n\n\nFoto: KØ 2018\n\n.\nPSH inviterer til guidet middelalder
 kirkevandring til Nes kirkeruin\, med start i Nes kirke (på Romerike) kl.
  1730.\nArrangementet er gratis og åpent for alle.\n\n.\nTotalt vandrer v
 i 4 km på flat vei. Ruinen ligger i et særegent ravine- og åkerlandskap
 .\nVandreguider fra PSH er Grethe Sprone\, Kim Elisabet-Kristin Sollie og 
 Kristin Øveraas.\n.\n\nBilegrimer kan møte direkte ved Nes nye kirke kl.
  17:30.\nDet er parkeringsplass både ved kirka og ved ruinen\, så turen 
 er tilgjengelig for bevegelseshemmede.\n\n.\nVår vert i Nes kirke og Nes 
 kirkeruin er kantor Øyvind Sørum. \n\nNes kirkeruin har murelementer fr
 a den opprinnelige Nes steinkirke fra 1100-tallet. Nes kirke har en del in
 teriør fra den gamle kirka.\nForvalteren "Museene i Akershus" presenterer
  ruinen her.\n.\nVår vert på Ullershov gård er eieren Olav Tobias Ødeg
 aard.\nGården har vært i kontinuerlig bruk siden år 600\, har huset et 
 tingsted og vært offerplass for guden Ullr.\nVi får en spesialomvisning 
 med informasjon om gårdens historie\, med vekt på den særegne bruken av
  tunet gjennom de siste 25 årene og om dagens planer for jordveien og de 
 femten gårdsbygningene. Det eldste huset er fra 1725.\n.\nTURBESKRIVELSE\
 n\n\n\nVandreguidene tar nordgående tog L13 Dal til Kløfta. Toget start
 er i Drammen og går 16:14 fra Oslo S.\nFra Kløfta stasjon tar vi Buss 46
 0 Herbergåsen kl. 16:49. Denne stopper ved Nes kirke kl. 17:16.\n\nVi fø
 lger denne tidsplanen:\n\n 	1730-1800 Kirkehistorie og musikkinnslag i Nes
  kirke - v/kantor Øyvind Sørum\n 	1800-1930 Vandring til Nes kirkeruin (
 2 km)\, opphold i ruinene\, rask tur ned til elvebredden for interesserte 
 ( &lt\; 1 km)\, retur samme vei (2 km).\n 	For de travle: Buss 460 fra Nes
  til Kløfta 1936\, og over på korresponderende Drammenstog som ankommer 
 Oslo S 2046.\n 	1930-2130 Omvisning på Ullershov gård - suppeservering f
 or påmeldte - v/eier Olav Tobias Ødegaard\n 	2136 - buss 460 fra Nes til
  Kløfta\, og over på korresponderende Drammenstog som ankommer Oslo S 22
 46.\n\n\nDen som ønsker suppeservering på Ullershov må melde fra på ep
 ost til pf.st.hallvard@hotmail.com innen 10.mai. (Hver gjør opp for seg p
 å stedet.)\n\n\n\n.\nTa med:\n* Mat etter eget behov\n* Klær etter vær\
 n.\nVi stempler «Pilegrimspass for middelalderkirker på Østlandet» ved
  ruinen. Den som ønsker det\, kan kjøpe pass i løpet av vandringen.\nHa
 r du spørsmål like før turstart\, kan du ta kontakt via kommentarfeltet
  på Facebook-arrangementet.\n\n.\nLenker\n\n 	Mer om Pilegrimspass for Mi
 ddelalderkirker på Østlandet\n 	Neste planlagte vandring finner du her.\
 n\n&nbsp\;\n\nArrangementet er støttet av Viken fylkeskommune.\n\n\nKartu
 tsnitt: www.ut.no\n&nbsp\;\n\n&nbsp\;\n\n&nbsp\;\n\n&nbsp\;\n\n&nbsp\;\n\n
  \n\n&nbsp\;\n\n&nbsp\;\n\n&nbsp\;\n\n&nbsp\;\n\n&nbsp\;
CATEGORIES:Dagsvandring,Pilegrimsfellesskapet St. Hallvard av Oslo
LOCATION:Nes kirke\, Kongsvingervegen 2232\, Vormsund\, Viken\, 2160\, Vike
 n\, Norway
X-APPLE-STRUCTURED-LOCATION;VALUE=URI;X-ADDRESS=Kongsvingervegen 2232\, Vor
 msund\, Viken\, 2160\, Viken\, Norway;X-APPLE-RADIUS=100;X-TITLE=Nes kirke
 :geo:0,0
END:VEVENT
BEGIN:VTIMEZONE
TZID:Europe/Oslo
X-LIC-LOCATION:Europe/Oslo
BEGIN:DAYLIGHT
DTSTART:20220327T030000
TZOFFSETFROM:+0100
TZOFFSETTO:+0200
TZNAME:CEST
END:DAYLIGHT
END:VTIMEZONE
END:VCALENDAR