BEGIN:VCALENDAR
VERSION:2.0
PRODID:-//wp-events-plugin.com//7.2.3.1//EN
BEGIN:VEVENT
UID:532@pilegrimsfellesskapet.no
DTSTART;TZID=Europe/Oslo:20250902T190000
DTEND;TZID=Europe/Oslo:20250902T210000
DTSTAMP:20250827T075806Z
URL:https://www.pilegrimsfellesskapet.no/arrangement/ny-guidebok-for-tunsb
 ergleden-boklansering/
SUMMARY:Ny guidebok for Tunsbergleden. Boklansering
DESCRIPTION:Pilegrimsforeningen St. Hallvard av Huseby inviterer til boklan
 sering ved forfatter Ellen Rykkja Gilbert.\n«Tunsbergleden fra Larvik til
  Oslo» - en praktisk guide til vandring
ATTACH;FMTTYPE=image/jpeg:https://www.pilegrimsfellesskapet.no/wp-content/
 uploads/2024/09/Vandring-i-Vestfold.jpg
CATEGORIES:Møter,Pilegrimsforeningen St. Hallvard av Huseby
LOCATION:Drammen bibliotek\, Grønland 58\, 3045 Drammen\, Buskerud\, Norwa
 y
X-APPLE-STRUCTURED-LOCATION;VALUE=URI;X-ADDRESS=Grønland 58\, 3045 Drammen
 \, Buskerud\, Norway;X-APPLE-RADIUS=100;X-TITLE=Drammen bibliotek:geo:0,0
END:VEVENT
BEGIN:VTIMEZONE
TZID:Europe/Oslo
X-LIC-LOCATION:Europe/Oslo
BEGIN:DAYLIGHT
DTSTART:20250330T030000
TZOFFSETFROM:+0100
TZOFFSETTO:+0200
TZNAME:CEST
END:DAYLIGHT
END:VTIMEZONE
END:VCALENDAR