BEGIN:VCALENDAR
VERSION:2.0
PRODID:-//wp-events-plugin.com//7.2.3.1//EN
BEGIN:VEVENT
UID:526@pilegrimsfellesskapet.no
DTSTART;TZID=Europe/Oslo:20250728T000000
DTEND;TZID=Europe/Oslo:20250803T000000
DTSTAMP:20250615T184120Z
URL:https://www.pilegrimsfellesskapet.no/arrangement/olavsfest-i-trondheim
 /
SUMMARY:Olavsfest i Trondheim
DESCRIPTION:Olavsfest - kulturfestival i Trondheim som innvies med en felle
 s pilegrimsvandring fra Lian til Nidarosdomen.
ATTACH;FMTTYPE=image/jpeg:https://www.pilegrimsfellesskapet.no/wp-content/
 uploads/2017/12/St-olav-og-st-jakob.jpg
END:VEVENT
BEGIN:VTIMEZONE
TZID:Europe/Oslo
X-LIC-LOCATION:Europe/Oslo
BEGIN:DAYLIGHT
DTSTART:20250330T030000
TZOFFSETFROM:+0100
TZOFFSETTO:+0200
TZNAME:CEST
END:DAYLIGHT
END:VTIMEZONE
END:VCALENDAR