BEGIN:VCALENDAR
VERSION:2.0
PRODID:-//wp-events-plugin.com//7.2.3.1//EN
BEGIN:VEVENT
UID:509@pilegrimsfellesskapet.no
DTSTART;TZID=Europe/Oslo:20250724T120000
DTEND;TZID=Europe/Oslo:20250724T130000
DTSTAMP:20250516T093524Z
URL:https://www.pilegrimsfellesskapet.no/arrangement/olsok-i-sarpsborg-pa-
 vandring-med-pil-grim/
SUMMARY:Olsok i Sarpsborg - på vandring med Pil & Grim
DESCRIPTION:Borgleden Pilegrimssenter og Pilegrimsfellesskapet Sta.Maria in
 viterer til en spennende pilegrimsvandring på 1000-årsstien\, fra Hafslu
 nd Kunnskapspark til Borgarsyssel Museum.\nSammen med Pil & Grim går vi d
 eler av 1000-årsstien.
ATTACH;FMTTYPE=image/jpeg:https://www.pilegrimsfellesskapet.no/wp-content/
 uploads/2025/05/Vandring-med-Pil-og-Grim.jpg
CATEGORIES:Pilegrimsfellesskapet Sta. Maria, Sarpsborg
LOCATION:Hafslund Kunnskapspark\, Statsminister Torps vei 1 A\, Sarpsborg\,
  1722\, Østfold\, Norway
X-APPLE-STRUCTURED-LOCATION;VALUE=URI;X-ADDRESS=Statsminister Torps vei 1 A
 \, Sarpsborg\, 1722\, Østfold\, Norway;X-APPLE-RADIUS=100;X-TITLE=Hafslun
 d Kunnskapspark:geo:0,0
END:VEVENT
BEGIN:VTIMEZONE
TZID:Europe/Oslo
X-LIC-LOCATION:Europe/Oslo
BEGIN:DAYLIGHT
DTSTART:20250330T030000
TZOFFSETFROM:+0100
TZOFFSETTO:+0200
TZNAME:CEST
END:DAYLIGHT
END:VTIMEZONE
END:VCALENDAR