BEGIN:VCALENDAR
VERSION:2.0
PRODID:-//wp-events-plugin.com//7.2.3.1//EN
BEGIN:VEVENT
UID:518@pilegrimsfellesskapet.no
DTSTART;TZID=Europe/Oslo:20250728T180000
DTEND;TZID=Europe/Oslo:20250728T193000
DTSTAMP:20250523T152842Z
URL:https://www.pilegrimsfellesskapet.no/arrangement/olsokforedrag-pa-domk
 irkeodden/
SUMMARY:Olsokforedrag på Domkirkeodden
DESCRIPTION:Migrasjonsforsker Marta Bivand Erdal vil i sitt olsokforedrag t
 a utgangspunkt i både Olsok\, med momenter fra den hellige Olavs liv\, og
  i historien om den norske Amerika-utvandringen som markeres i 2025.
ATTACH;FMTTYPE=image/jpeg:https://www.pilegrimsfellesskapet.no/wp-content/
 uploads/2023/03/received_776363430772820-foto-Ragnfrid-Granerud.jpeg
CATEGORIES:Møter
LOCATION:Anno Domkirkeodden\, Strandveien 100\, Hamar\, 2315\, Innlandet\, 
 Norway
X-APPLE-STRUCTURED-LOCATION;VALUE=URI;X-ADDRESS=Strandveien 100\, Hamar\, 2
 315\, Innlandet\, Norway;X-APPLE-RADIUS=100;X-TITLE=Anno Domkirkeodden:geo
 :0,0
END:VEVENT
BEGIN:VTIMEZONE
TZID:Europe/Oslo
X-LIC-LOCATION:Europe/Oslo
BEGIN:DAYLIGHT
DTSTART:20250330T030000
TZOFFSETFROM:+0100
TZOFFSETTO:+0200
TZNAME:CEST
END:DAYLIGHT
END:VTIMEZONE
END:VCALENDAR