BEGIN:VCALENDAR
VERSION:2.0
PRODID:-//wp-events-plugin.com//7.2.3.1//EN
BEGIN:VEVENT
UID:514@pilegrimsfellesskapet.no
DTSTART;TZID=Europe/Oslo:20250728T213000
DTEND;TZID=Europe/Oslo:20250728T230000
DTSTAMP:20250523T153143Z
URL:https://www.pilegrimsfellesskapet.no/arrangement/olsokkonsert-i-hamard
 omen/
SUMMARY:Olsokkonsert i Hamardomen
DESCRIPTION:Velkommen til årets olsokkonsert i Hamardomen med Levi Henriks
 en & Babylon Badlands.
ATTACH;FMTTYPE=image/jpeg:https://www.pilegrimsfellesskapet.no/wp-content/
 uploads/2023/01/Domkirkeruinene-Hamar-scaled.jpg
LOCATION:Hamardomen\, Strandvegen 100\, Hamar\, 2315\, Innlandet\, Norway
X-APPLE-STRUCTURED-LOCATION;VALUE=URI;X-ADDRESS=Strandvegen 100\, Hamar\, 2
 315\, Innlandet\, Norway;X-APPLE-RADIUS=100;X-TITLE=Hamardomen:geo:0,0
END:VEVENT
BEGIN:VTIMEZONE
TZID:Europe/Oslo
X-LIC-LOCATION:Europe/Oslo
BEGIN:DAYLIGHT
DTSTART:20250330T030000
TZOFFSETFROM:+0100
TZOFFSETTO:+0200
TZNAME:CEST
END:DAYLIGHT
END:VTIMEZONE
END:VCALENDAR