BEGIN:VCALENDAR
VERSION:2.0
PRODID:-//wp-events-plugin.com//7.2.3.1//EN
BEGIN:VEVENT
UID:483@pilegrimsfellesskapet.no
DTSTART;TZID=Europe/Oslo:20250729T180000
DTEND;TZID=Europe/Oslo:20250729T193000
DTSTAMP:20250331T205124Z
URL:https://www.pilegrimsfellesskapet.no/arrangement/olsokmesse-i-ruinpark
 en-pa-borgarsyssel-museum/
SUMMARY:Olsokmesse i Ruinparken på  Borgarsyssel Museum
DESCRIPTION:I forbindelse med Olavsdagene i Sarpsborg inviteres det til Ols
 okmesse i Ruinparken på Borgarsyssel Museum.
ATTACH;FMTTYPE=image/jpeg:https://www.pilegrimsfellesskapet.no/wp-content/
 uploads/2025/03/290718Olsok0294www.fotografthomasandersen.no_lr-002-scaled
 .jpg
CATEGORIES:Pilegrimsfellesskapet Sta. Maria, Sarpsborg
LOCATION:Borgarsyssel museum\, Gamlebygata 8\, Sarpsborg\, Viken\, Norway
X-APPLE-STRUCTURED-LOCATION;VALUE=URI;X-ADDRESS=Gamlebygata 8\, Sarpsborg\,
  Viken\, Norway;X-APPLE-RADIUS=100;X-TITLE=Borgarsyssel museum:geo:0,0
END:VEVENT
BEGIN:VTIMEZONE
TZID:Europe/Oslo
X-LIC-LOCATION:Europe/Oslo
BEGIN:DAYLIGHT
DTSTART:20250330T030000
TZOFFSETFROM:+0100
TZOFFSETTO:+0200
TZNAME:CEST
END:DAYLIGHT
END:VTIMEZONE
END:VCALENDAR