BEGIN:VCALENDAR
VERSION:2.0
PRODID:-//wp-events-plugin.com//7.2.3.1//EN
BEGIN:VEVENT
UID:291@pilegrimsfellesskapet.no
DTSTART;TZID=Europe/Oslo:20230729T090000
DTEND;TZID=Europe/Oslo:20230729T163000
DTSTAMP:20230628T214938Z
URL:https://www.pilegrimsfellesskapet.no/arrangement/olsokvandring-2023-da
 g-2-skjeberg-middelalderkirke-borgarsyssel-museum/
SUMMARY:Olsokvandring 2023: Dag 2 - Skjeberg middelalderkirke - Borgarsysse
 l Museum
DESCRIPTION:Pilegrimsfellesskapet Sta. Maria\, Borgleden pilegrimssenter og
  Den norske kirke i Sarpsborg inviterer til pilegrimsvandringer i Olsok-uk
 a. Her kan du bli bedre kjent med Borgledens vakre kulturlandskap\, og van
 dre en eller to dager.
ATTACH;FMTTYPE=image/jpeg:https://www.pilegrimsfellesskapet.no/wp-content/
 uploads/2023/06/Borgleden-TA5_8358_lr-002-scaled.jpg
CATEGORIES:Dagsvandring,Langvandring,Pilegrimsfellesskapet Sta. Maria,
 Sarpsborg
LOCATION:Borgarsyssel museum\, Gamlebygata 8\, Sarpsborg\, Viken\, Norway
X-APPLE-STRUCTURED-LOCATION;VALUE=URI;X-ADDRESS=Gamlebygata 8\, Sarpsborg\,
  Viken\, Norway;X-APPLE-RADIUS=100;X-TITLE=Borgarsyssel museum:geo:0,0
END:VEVENT
BEGIN:VTIMEZONE
TZID:Europe/Oslo
X-LIC-LOCATION:Europe/Oslo
BEGIN:DAYLIGHT
DTSTART:20230326T030000
TZOFFSETFROM:+0100
TZOFFSETTO:+0200
TZNAME:CEST
END:DAYLIGHT
END:VTIMEZONE
END:VCALENDAR