BEGIN:VCALENDAR
VERSION:2.0
PRODID:-//wp-events-plugin.com//7.2.3.1//EN
BEGIN:VEVENT
UID:515@pilegrimsfellesskapet.no
DTSTART;TZID=Europe/Oslo:20250728T143000
DTEND;TZID=Europe/Oslo:20250728T173000
DTSTAMP:20250530T101722Z
URL:https://www.pilegrimsfellesskapet.no/arrangement/olsokvandring-fra-ott
 estad-til-hamar/
SUMMARY:Olsokvandring fra Ottestad til Hamar
DESCRIPTION:Bli med på Olsok-vandring i pilegrimens og utvandrernes fotspo
 r\, fra Ottestad til Hamar.
ATTACH;FMTTYPE=image/jpeg:https://www.pilegrimsfellesskapet.no/wp-content/
 uploads/2025/05/Utvandrere.-Fra-Norsk-utvandrermuseums-fotoarkiv.webp
CATEGORIES:Dagsvandring
LOCATION:Norsk utvandrermuseum\, Ingrid Semmingsens veg 10\, Ottestad\, 231
 2\, Innlandet\, Norway
X-APPLE-STRUCTURED-LOCATION;VALUE=URI;X-ADDRESS=Ingrid Semmingsens veg 10\,
  Ottestad\, 2312\, Innlandet\, Norway;X-APPLE-RADIUS=100;X-TITLE=Norsk utv
 andrermuseum:geo:0,0
END:VEVENT
BEGIN:VTIMEZONE
TZID:Europe/Oslo
X-LIC-LOCATION:Europe/Oslo
BEGIN:DAYLIGHT
DTSTART:20250330T030000
TZOFFSETFROM:+0100
TZOFFSETTO:+0200
TZNAME:CEST
END:DAYLIGHT
END:VTIMEZONE
END:VCALENDAR