BEGIN:VCALENDAR
VERSION:2.0
PRODID:-//wp-events-plugin.com//7.2.3.1//EN
BEGIN:VEVENT
UID:168@pilegrimsfellesskapet.no
DTSTART;TZID=Europe/Oslo:20220820T000000
DTEND;TZID=Europe/Oslo:20220820T000000
DTSTAMP:20220623T192125Z
URL:https://www.pilegrimsfellesskapet.no/arrangement/osterdalsleden-fra-to
 rgardshaugen-til-nidarosdomen/
SUMMARY:Østerdalsleden  fra Torgardshaugen til Nidarosdomen.
DESCRIPTION:Pilegrimsfellesskapet St. Olav - Nidaros arrangerer pilegrimsva
 ndring langs Østerdalsleden\, avgang fra Torgardshaugen kl.10:20 til Nida
 rosdomen.\nBuss 1 fra Strindheim kl. 9:37\, fra Prinsensgt P1 kl. 09:49 ti
 l Tillerterminalen.\nBuss 72 derfra kl.10:11 til Torgardshaugen.\n\nAage G
 ram leder denne vandringen.
CATEGORIES:Dagsvandring,Fellesturer
END:VEVENT
BEGIN:VTIMEZONE
TZID:Europe/Oslo
X-LIC-LOCATION:Europe/Oslo
BEGIN:DAYLIGHT
DTSTART:20220327T030000
TZOFFSETFROM:+0100
TZOFFSETTO:+0200
TZNAME:CEST
END:DAYLIGHT
END:VTIMEZONE
END:VCALENDAR