BEGIN:VCALENDAR
VERSION:2.0
PRODID:-//wp-events-plugin.com//7.2.3.1//EN
BEGIN:VEVENT
UID:63@pilegrimsfellesskapet.no
DTSTART;TZID=Europe/Oslo:20210712T000000
DTEND;TZID=Europe/Oslo:20210720T000000
DTSTAMP:20210219T115246Z
URL:https://www.pilegrimsfellesskapet.no/arrangement/over-dovrefjell-til-n
 idaros/
SUMMARY:Over Dovrefjell til Nidaros
DESCRIPTION:Pilegrimsvandring over Dovrefjell til Nidaros.
ATTACH;FMTTYPE=image/jpeg:https://www.pilegrimsfellesskapet.no/wp-content/
 uploads/2021/02/Pilegrimsleden-Dombås-Foso-Eskil-Roll.jpg
CATEGORIES:Langvandring,Vandring
LOCATION:Dombås hotell\, Dombåsgrendi\, Dombås\, 2660\, Norway
X-APPLE-STRUCTURED-LOCATION;VALUE=URI;X-ADDRESS=Dombåsgrendi\, Dombås\, 2
 660\, Norway;X-APPLE-RADIUS=100;X-TITLE=Dombås hotell:geo:0,0
END:VEVENT
BEGIN:VTIMEZONE
TZID:Europe/Oslo
X-LIC-LOCATION:Europe/Oslo
BEGIN:DAYLIGHT
DTSTART:20210328T030000
TZOFFSETFROM:+0100
TZOFFSETTO:+0200
TZNAME:CEST
END:DAYLIGHT
END:VTIMEZONE
END:VCALENDAR