BEGIN:VCALENDAR
VERSION:2.0
PRODID:-//wp-events-plugin.com//7.2.3.1//EN
BEGIN:VEVENT
UID:208@pilegrimsfellesskapet.no
DTSTART;TZID=Europe/Oslo:20230429T000000
DTEND;TZID=Europe/Oslo:20230429T000000
DTSTAMP:20230414T060426Z
URL:https://www.pilegrimsfellesskapet.no/arrangement/pa-gudbrandsdalsleden
 -fra-skaun-kirke-til-buvik-kirke/
SUMMARY:På Gudbrandsdalsleden fra Skaun kirke til Buvik kirke (AVLYST)
DESCRIPTION:Pilegrimsfellesskapet St. Olav - Nidaros inviterer til vandring
  på Gudbrandsdalsleden\, fra Skaun kirke til Buvik kirke.
ATTACH;FMTTYPE=image/jpeg:https://www.pilegrimsfellesskapet.no/wp-content/
 uploads/2017/04/Skaun-Kirke.jpg
CATEGORIES:Dagsvandring,Pilegrimsfellesskapet St. Olav - Nidaros
END:VEVENT
BEGIN:VTIMEZONE
TZID:Europe/Oslo
X-LIC-LOCATION:Europe/Oslo
BEGIN:DAYLIGHT
DTSTART:20230326T030000
TZOFFSETFROM:+0100
TZOFFSETTO:+0200
TZNAME:CEST
END:DAYLIGHT
END:VTIMEZONE
END:VCALENDAR