BEGIN:VCALENDAR
VERSION:2.0
PRODID:-//wp-events-plugin.com//7.2.3.1//EN
BEGIN:VEVENT
UID:253@pilegrimsfellesskapet.no
DTSTART;TZID=Europe/Oslo:20230726T000000
DTEND;TZID=Europe/Oslo:20230729T000000
DTSTAMP:20230411T125540Z
URL:https://www.pilegrimsfellesskapet.no/arrangement/pa-sporet-av-heilag-o
 lav-si-ferd-gjennom-valdres-1023/
SUMMARY:På sporet av Heilag Olav si ferd gjennom Valdres 1023
DESCRIPTION:Fjellprest Eli Vatn leder en tre dagers pilegrimsvandring fra N
 ysetstølen i Etnedal til Slidredomen.
ATTACH;FMTTYPE=image/jpeg:https://www.pilegrimsfellesskapet.no/wp-content/
 uploads/2023/04/Slidredomen_kirkesok.no_.jpg
CATEGORIES:Fellesturer,Pilegrimsfellesskapet St. Thomas i Valdres
END:VEVENT
BEGIN:VTIMEZONE
TZID:Europe/Oslo
X-LIC-LOCATION:Europe/Oslo
BEGIN:DAYLIGHT
DTSTART:20230326T030000
TZOFFSETFROM:+0100
TZOFFSETTO:+0200
TZNAME:CEST
END:DAYLIGHT
END:VTIMEZONE
END:VCALENDAR