BEGIN:VCALENDAR
VERSION:2.0
PRODID:-//wp-events-plugin.com//7.2.3.1//EN
BEGIN:VEVENT
UID:337@pilegrimsfellesskapet.no
DTSTART;TZID=Europe/Oslo:20240802T000000
DTEND;TZID=Europe/Oslo:20240804T000000
DTSTAMP:20240202T065209Z
URL:https://www.pilegrimsfellesskapet.no/arrangement/peer-gynt-vandring-fr
 a-ringebu-til-vinstra/
SUMMARY:Peer Gynt-vandring fra Ringebu til Vinstra
DESCRIPTION:Camino Walks arrangerer vandring på pilegrimsleden fra Ringebu
  til Vinstra. Vandringen inkuderer Ringebu stavkirke og prestegård og Pee
 r Gynt-spelet på Gålå.
ATTACH;FMTTYPE=image/jpeg:https://www.pilegrimsfellesskapet.no/wp-content/
 uploads/2024/01/IMG_0005.jpg
CATEGORIES:Langvandring
LOCATION:Ringebu skysstasjon\, Gudbrandsdalsvegen 2026\, Ringebu\, 2630\, I
 nnlandet\, Norway
X-APPLE-STRUCTURED-LOCATION;VALUE=URI;X-ADDRESS=Gudbrandsdalsvegen 2026\, R
 ingebu\, 2630\, Innlandet\, Norway;X-APPLE-RADIUS=100;X-TITLE=Ringebu skys
 stasjon:geo:0,0
END:VEVENT
BEGIN:VTIMEZONE
TZID:Europe/Oslo
X-LIC-LOCATION:Europe/Oslo
BEGIN:DAYLIGHT
DTSTART:20240331T030000
TZOFFSETFROM:+0100
TZOFFSETTO:+0200
TZNAME:CEST
END:DAYLIGHT
END:VTIMEZONE
END:VCALENDAR