BEGIN:VCALENDAR
VERSION:2.0
PRODID:-//wp-events-plugin.com//7.2.3.1//EN
BEGIN:VEVENT
UID:134@pilegrimsfellesskapet.no
DTSTART;TZID=Europe/Oslo:20220401T170000
DTEND;TZID=Europe/Oslo:20220403T130000
DTSTAMP:20220215T121422Z
URL:https://www.pilegrimsfellesskapet.no/arrangement/pilegrim-for-en-helg-
 bo-hjemme/
SUMMARY:Pilegrim for en helg - bo hjemme
DESCRIPTION:Pilegrimsutvalget i Stavanger inviterer til en helg med Middela
 derkirkebyen Stavanger som tema
CATEGORIES:Fellesturer
LOCATION:Domkirken og St. Petri menighetshus\, Rektor Steens gt 7\, Stavang
 er\, Rogaland\, Norway
X-APPLE-STRUCTURED-LOCATION;VALUE=URI;X-ADDRESS=Rektor Steens gt 7\, Stavan
 ger\, Rogaland\, Norway;X-APPLE-RADIUS=100;X-TITLE=Domkirken og St. Petri 
 menighetshus:geo:0,0
END:VEVENT
BEGIN:VTIMEZONE
TZID:Europe/Oslo
X-LIC-LOCATION:Europe/Oslo
BEGIN:DAYLIGHT
DTSTART:20220327T030000
TZOFFSETFROM:+0100
TZOFFSETTO:+0200
TZNAME:CEST
END:DAYLIGHT
END:VTIMEZONE
END:VCALENDAR