BEGIN:VCALENDAR
VERSION:2.0
PRODID:-//wp-events-plugin.com//7.2.3.1//EN
BEGIN:VEVENT
UID:59@pilegrimsfellesskapet.no
DTSTART;TZID=Europe/Oslo:20210227T120000
DTEND;TZID=Europe/Oslo:20210227T160000
DTSTAMP:20210225T104223Z
URL:https://www.pilegrimsfellesskapet.no/arrangement/pilegrim-i-oslo/
SUMMARY:Lørdagsvandring mellom pilegrimsmål i Oslo sentrum
DESCRIPTION:\n.\n\n\n22.02.: FULLTEGNET! Arrangementet gjentas i mars - se 
 egen annonsering her.\n\n\n.\nPilegrimsfellesskapet St.Hallvard av Oslo in
 viterer til rundvandring i Oslo sentrum\, med start og slutt ved Oslo domk
 irke på Stortorvet.\n.\nBli med på lørdagsvandring i den delende pilegr
 imens ånd. Spennende fortellinger venter!\nNye og gamle venner ønskes ve
 lkommen til fysisk aktivitet og sosiale opplevelser.\nTuren går på jevnt
  underlag og passer for alle som kan rusle 9 km i strekk.\n.\nTurledere: K
 im Elisabet-Kristin Sollie\, Bo Sommerstad og Kristin Øveraas.\nLeder av 
 Regionalt pilegrimssenter Oslo - Anna Runesson - er vår guide ved flere a
 v pilegrimspunktene.\n.\nTURBESKRIVELSE\n11:00 - oppmøte ved Oslo domkirk
 es hoveddør\n12:30 ca. - utendørs matpause på benk/trapp\n15:00 - senes
 te retur til Stortorvet.\n*\n9 km rolig gange med jevnlige stopp for infor
 masjonsdeling.\nAlle oppfordres til å dele sin kunnskap på inspirasjon u
 nderveis!\nTuren gjennomføres uten værforbehold.\n*\nTa med:\n* Niste\, 
 drikke og sitteunderlag\n* Munnbind til bruk ved behov\n* Klær etter vær
 \n* Middelalderkirkepass\, hvis du har\n* Historisk Oslo-kunnskap å dele 
 med gruppen\n.\n«Pilegrimspass for middelalderkirker på Østlandet» ste
 mples av turlederne ved St.Hallvardskatedralruinen og ved Gamle Aker kirke
 .\n.\nHar du spørsmål like før turstart\, kan du ta kontakt med turlede
 rne i kommentarfeltet på PSHs Facebook-arrangement.\n.\nRUTEBESKRIVELSE\n
 Oslo domkirke\, Christiania torv\, over Akershus festning\, rundt/over ope
 raen\, via Bispevika til Middelalderparkens ruiner etter St.Hallvardkatedr
 alen og Olavsklosteret. Deretter følger vi Nordre strete forbi Oslos stø
 rste kirke - Grønland kirke\, før vi går oppom den fredede St.Hallvard 
 kirke/kloster på Enerhaugen. Like etter krysser vi den vestlige pilegrims
 leden og velger veien viaTøyen/Tadvin hovedgård\, som er Oslos eldste be
 varte trebygning og hvor Hans Nilsen Hauge har 'signert' en vindusrute.  
 Så vandrer vi forbi den jødiske kirkegården i Sofienbergparken\, krysse
 r Akerselva i Kubaparken og går opp Telthusbakken til Gamle Aker kirke - 
 Oslos eldste steinbygning i daglig bruk. Få meter unna ligger Pilegrimsse
 nter Oslo på turens høyeste punkt - 51 meter over havet. På nedtur pass
 erer vi Vår Frelsers gravlund med Henrik Wergelands gravminne\, Den russi
 sk-ortodokse kirken St.Olga\, St.Olav bokhandel\, St.Olav katolske domkirk
 e\, den gresk-ortodokse kirken\, Svenske Margaretakyrkan\, St.Edmunds Chur
 ch og går Møllergata/Mølleveien tilbake til start.\n.\nPRAKTISK INFO\nV
 andringen foregår kun utendørs\, men innenfor dagens restriksjoner vil v
 ære tilgang til toaletter på minst to steder langs ruta. Ett før vi for
 later kvadraturen og ett (for anledningen) på pilegrimssenteret i Akersba
 kken. Vi passerer også noen kaféer underveis.\n.\nLenker\nMer om Pilegri
 mspass for Middelalderkirker på Østlandet
CATEGORIES:Dagsvandring,Pilegrimsfellesskapet St. Hallvard av
 Oslo,Vandring
END:VEVENT
BEGIN:VTIMEZONE
TZID:Europe/Oslo
X-LIC-LOCATION:Europe/Oslo
BEGIN:STANDARD
DTSTART:20201025T020000
TZOFFSETFROM:+0200
TZOFFSETTO:+0100
TZNAME:CET
END:STANDARD
END:VTIMEZONE
END:VCALENDAR