BEGIN:VCALENDAR
VERSION:2.0
PRODID:-//wp-events-plugin.com//7.2.3.1//EN
BEGIN:VEVENT
UID:428@pilegrimsfellesskapet.no
DTSTART;TZID=Europe/Oslo:20250627T000000
DTEND;TZID=Europe/Oslo:20250705T000000
DTSTAMP:20241202T131210Z
URL:https://www.pilegrimsfellesskapet.no/arrangement/pilegrim-i-valdres-20
 25/
SUMMARY:Pilegrim i Valdres 2025
DESCRIPTION:Pilegrimsfellesskapet St. Thomas inviterer til en organisert va
 ndring fra Hedalen stavkirke til St. Thomas kyrkja på Filefjell.
ATTACH;FMTTYPE=image/jpeg:https://www.pilegrimsfellesskapet.no/wp-content/
 uploads/2017/10/Pilegrim_4740.jpg
CATEGORIES:Fellesturer,Langvandring,Pilegrimsfellesskapet St. Thomas i
 Valdres
LOCATION:Hedalen stavkyrkje\, Hedalen\, Hedalen\, Norway
X-APPLE-STRUCTURED-LOCATION;VALUE=URI;X-ADDRESS=Hedalen\, Hedalen\, Norway;
 X-APPLE-RADIUS=100;X-TITLE=Hedalen stavkyrkje:geo:0,0
END:VEVENT
BEGIN:VTIMEZONE
TZID:Europe/Oslo
X-LIC-LOCATION:Europe/Oslo
BEGIN:DAYLIGHT
DTSTART:20250330T030000
TZOFFSETFROM:+0100
TZOFFSETTO:+0200
TZNAME:CEST
END:DAYLIGHT
END:VTIMEZONE
END:VCALENDAR