BEGIN:VCALENDAR
VERSION:2.0
PRODID:-//wp-events-plugin.com//7.2.3.1//EN
BEGIN:VEVENT
UID:234@pilegrimsfellesskapet.no
DTSTART;TZID=Europe/Oslo:20230421T000000
DTEND;TZID=Europe/Oslo:20230423T000000
DTSTAMP:20230313T101750Z
URL:https://www.pilegrimsfellesskapet.no/arrangement/pilegrim-uten-sekk-i-
 stavanger/
SUMMARY:Pilegrim uten sekk i Stavanger
DESCRIPTION:Pilegrimsutvalget i Stavanger inviterer til pilegrimshelg med b
 iskop emeritus Tor Singsaas\, sokneprest Arne Berge og Den nasjonale pileg
 rimskvartetten.
ATTACH;FMTTYPE=image/jpeg:https://www.pilegrimsfellesskapet.no/wp-content/
 uploads/2018/01/2009-Kystleia-200-720x720.jpg
CATEGORIES:Møter
LOCATION:Varden kirke\, Egersundsgata 11\, Stavanger\, 4001\, Rogaland\, No
 rway
X-APPLE-STRUCTURED-LOCATION;VALUE=URI;X-ADDRESS=Egersundsgata 11\, Stavange
 r\, 4001\, Rogaland\, Norway;X-APPLE-RADIUS=100;X-TITLE=Varden kirke:geo:0
 ,0
END:VEVENT
BEGIN:VTIMEZONE
TZID:Europe/Oslo
X-LIC-LOCATION:Europe/Oslo
BEGIN:DAYLIGHT
DTSTART:20230326T030000
TZOFFSETFROM:+0100
TZOFFSETTO:+0200
TZNAME:CEST
END:DAYLIGHT
END:VTIMEZONE
END:VCALENDAR