BEGIN:VCALENDAR
VERSION:2.0
PRODID:-//wp-events-plugin.com//7.2.3.1//EN
BEGIN:VEVENT
UID:88@pilegrimsfellesskapet.no
DTSTART;TZID=Europe/Oslo:20210613T110000
DTEND;TZID=Europe/Oslo:20210613T140000
DTSTAMP:20210611T103714Z
URL:https://www.pilegrimsfellesskapet.no/arrangement/pilegrims-og-bygdevan
 dring-i-haug/
SUMMARY:Pilegrims- og bygdevandring i Haug
DESCRIPTION:Haug Menighet og Pilegrimsfellesskapet RiHaTo inviterer til pil
 egrimsvandring i Haug.
ATTACH;FMTTYPE=image/jpeg:https://www.pilegrimsfellesskapet.no/wp-content/
 uploads/2021/06/Vandring-i-fellesskap-RiHaTo.jpg
CATEGORIES:Dagsvandring,Fellesturer
LOCATION:Haug kirke\, Haugsbygd\, Hønefoss\, 3514\, Norway
X-APPLE-STRUCTURED-LOCATION;VALUE=URI;X-ADDRESS=Haugsbygd\, Hønefoss\, 351
 4\, Norway;X-APPLE-RADIUS=100;X-TITLE=Haug kirke:geo:0,0
END:VEVENT
BEGIN:VTIMEZONE
TZID:Europe/Oslo
X-LIC-LOCATION:Europe/Oslo
BEGIN:DAYLIGHT
DTSTART:20210328T030000
TZOFFSETFROM:+0100
TZOFFSETTO:+0200
TZNAME:CEST
END:DAYLIGHT
END:VTIMEZONE
END:VCALENDAR