BEGIN:VCALENDAR
VERSION:2.0
PRODID:-//wp-events-plugin.com//7.2.3.1//EN
BEGIN:VEVENT
UID:106@pilegrimsfellesskapet.no
DTSTART;TZID=Europe/Oslo:20210906T100000
DTEND;TZID=Europe/Oslo:20210909T211500
DTSTAMP:20210823T152646Z
URL:https://www.pilegrimsfellesskapet.no/arrangement/pilegrimsferd-fra-sel
 je-til-smola/
SUMMARY:Pilegrimsferd frå Selje til Smøla
DESCRIPTION:Vi legg opp til ei reise frå Selje til Smøla i forkant av Kys
 tpilegrimskonferansen på Smøla 10 og 11.september!\nDu kan delta på hei
 le eller deler av reisa\, eller rett og slett berre delta på din nøkkels
 tad!\n\nI forkant av Kystpilegrimskonferansen 10 og 11.september vert du i
 nvitert på ei ferd frå Selje til Smøla. Ferda er i regi Smøla pilegrim
 ssenter\, men i tett samarbeid med Selje pilegrimssenter og dei 6 nøkkels
 tadane i Møre og Romsdal. Herøy\, Giske\, Borgund\, Veøya\, Kvernes og 
 Edøy. Dei som melder seg på her\, er dei som skal vere med på ei overna
 tting/middag eller fleire. Det er også fullt mulig for lokalbefolkinga og
  møte opp og delta berre på "sin" nøkkelstad\, og arrangementet som er 
 der.\n\nDetaljert program og påmelding.\n\n\n
ATTACH;FMTTYPE=image/jpeg:https://www.pilegrimsfellesskapet.no/wp-content/
 uploads/2020/11/⁯Edøy-kirke.jpg
CATEGORIES:Kystpilegrim
END:VEVENT
BEGIN:VTIMEZONE
TZID:Europe/Oslo
X-LIC-LOCATION:Europe/Oslo
BEGIN:DAYLIGHT
DTSTART:20210328T030000
TZOFFSETFROM:+0100
TZOFFSETTO:+0200
TZNAME:CEST
END:DAYLIGHT
END:VTIMEZONE
END:VCALENDAR