BEGIN:VCALENDAR
VERSION:2.0
PRODID:-//wp-events-plugin.com//7.2.3.1//EN
BEGIN:VEVENT
UID:495@pilegrimsfellesskapet.no
DTSTART;TZID=Europe/Oslo:20250613T180000
DTEND;TZID=Europe/Oslo:20250613T190000
DTSTAMP:20250410T151846Z
URL:https://www.pilegrimsfellesskapet.no/arrangement/pilegrimsforeningas-a
 ndelop-pa-voll-i-rennebu-3/
SUMMARY:Pilegrimsforeningas andeløp på Voll i Rennebu
DESCRIPTION:Pilgrimsforeninga i Rennebu arrangerer lotteri til inntekt for 
 pilegrimsarbeidet i Rennebu.\n\nTrekningen skjer som andeløp i bekken Hur
 unda på Voll.\n\nFine premier\, bl.a. flere gavekort i butikker. Stor mor
 o for "barn i alle aldre".
ATTACH;FMTTYPE=image/jpeg:https://www.pilegrimsfellesskapet.no/wp-content/
 uploads/2024/04/Andeslepp-scaled.jpg
CATEGORIES:Pilegrimsforeninga i Rennebu
END:VEVENT
BEGIN:VTIMEZONE
TZID:Europe/Oslo
X-LIC-LOCATION:Europe/Oslo
BEGIN:DAYLIGHT
DTSTART:20250330T030000
TZOFFSETFROM:+0100
TZOFFSETTO:+0200
TZNAME:CEST
END:DAYLIGHT
END:VTIMEZONE
END:VCALENDAR