BEGIN:VCALENDAR
VERSION:2.0
PRODID:-//wp-events-plugin.com//7.2.3.1//EN
BEGIN:VEVENT
UID:132@pilegrimsfellesskapet.no
DTSTART;TZID=Europe/Oslo:20220425T190000
DTEND;TZID=Europe/Oslo:20220425T210000
DTSTAMP:20220304T122751Z
URL:https://www.pilegrimsfellesskapet.no/arrangement/pilegrimsfortellinger
 /
SUMMARY:Pilegrimsfortellinger
DESCRIPTION:Pilegrimsfellesskapet RiHaTo inviterer til pilegrimsfortellinge
 r i regi av Toten Kirkeakademi. Forteller er Anne-Sissel Bergum.
ATTACH;FMTTYPE=image/jpeg:https://www.pilegrimsfellesskapet.no/wp-content/
 uploads/2022/02/Anne-Sissel-Bergum.jpg
CATEGORIES:Møter
LOCATION:Hoff kirke/bygdestua\, Tømmerholsvegen\, 2850 Lena\, Norway
X-APPLE-STRUCTURED-LOCATION;VALUE=URI;X-ADDRESS=Tømmerholsvegen\, 2850 Len
 a\, Norway;X-APPLE-RADIUS=100;X-TITLE=Hoff kirke/bygdestua:geo:0,0
END:VEVENT
BEGIN:VTIMEZONE
TZID:Europe/Oslo
X-LIC-LOCATION:Europe/Oslo
BEGIN:DAYLIGHT
DTSTART:20220327T030000
TZOFFSETFROM:+0100
TZOFFSETTO:+0200
TZNAME:CEST
END:DAYLIGHT
END:VTIMEZONE
END:VCALENDAR