BEGIN:VCALENDAR
VERSION:2.0
PRODID:-//wp-events-plugin.com//7.2.3.1//EN
BEGIN:VEVENT
UID:439@pilegrimsfellesskapet.no
DTSTART;TZID=Europe/Oslo:20250125T100000
DTEND;TZID=Europe/Oslo:20250125T160000
DTSTAMP:20241114T143059Z
URL:https://www.pilegrimsfellesskapet.no/arrangement/pilegrimsforum-pa-uts
 tein-hellige-steder/
SUMMARY:Pilegrimsforum på Utstein: Hellige steder
DESCRIPTION:Den norske kirke v/Stavanger bispedømmeråd inviterer til pile
 grimsforum på Utstein pilegrimsgård.
ATTACH;FMTTYPE=image/jpeg:https://www.pilegrimsfellesskapet.no/wp-content/
 uploads/2023/01/Utstein-Pilegrimsgard-ute-2020.jpg
CATEGORIES:Møter
LOCATION:Utstein pilegrimsgard\, Sorgenfriveien 8\, Mosterøy\, 4156\, Roga
 land\, Norway
X-APPLE-STRUCTURED-LOCATION;VALUE=URI;X-ADDRESS=Sorgenfriveien 8\, Mosterø
 y\, 4156\, Rogaland\, Norway;X-APPLE-RADIUS=100;X-TITLE=Utstein pilegrimsg
 ard:geo:0,0
END:VEVENT
BEGIN:VTIMEZONE
TZID:Europe/Oslo
X-LIC-LOCATION:Europe/Oslo
BEGIN:STANDARD
DTSTART:20241027T020000
TZOFFSETFROM:+0200
TZOFFSETTO:+0100
TZNAME:CET
END:STANDARD
END:VTIMEZONE
END:VCALENDAR