BEGIN:VCALENDAR
VERSION:2.0
PRODID:-//wp-events-plugin.com//7.2.3.1//EN
BEGIN:VEVENT
UID:245@pilegrimsfellesskapet.no
DTSTART;TZID=Europe/Oslo:20230723T100000
DTEND;TZID=Europe/Oslo:20230723T120000
DTSTAMP:20230411T150505Z
URL:https://www.pilegrimsfellesskapet.no/arrangement/pilegrimsgudstjeneste
 -i-rennebu-kirke/
SUMMARY:Pilegrimsgudstjeneste i Rennebu kirke
DESCRIPTION:Mer info kommer.
ATTACH;FMTTYPE=image/jpeg:https://www.pilegrimsfellesskapet.no/wp-content/
 uploads/2023/04/Rennebu-kirke_kirkesok.no_.jpg
CATEGORIES:Pilegrimsforeninga i Rennebu
END:VEVENT
BEGIN:VTIMEZONE
TZID:Europe/Oslo
X-LIC-LOCATION:Europe/Oslo
BEGIN:DAYLIGHT
DTSTART:20230326T030000
TZOFFSETFROM:+0100
TZOFFSETTO:+0200
TZNAME:CEST
END:DAYLIGHT
END:VTIMEZONE
END:VCALENDAR