BEGIN:VCALENDAR
VERSION:2.0
PRODID:-//wp-events-plugin.com//7.2.3.1//EN
BEGIN:VEVENT
UID:263@pilegrimsfellesskapet.no
DTSTART;TZID=Europe/Oslo:20230529T130000
DTEND;TZID=Europe/Oslo:20230529T140000
DTSTAMP:20230503T185743Z
URL:https://www.pilegrimsfellesskapet.no/arrangement/pilegrimsgudstjeneste
 -og-skaperverkets-dag-pa-gurisentret/
SUMMARY:Pilegrimsgudstjeneste og skaperverkets dag på Gurisentret
DESCRIPTION:Gudstjeneste med nattverd\, og matservering i kafeen.\n\nKontak
 tperson:\n\nDagfrid Boot\nkirken@smola.kommune.no
ATTACH;FMTTYPE=image/jpeg:https://www.pilegrimsfellesskapet.no/wp-content/
 uploads/2023/04/Gurisenteret_foto_Nordmorsmusea.jpg
CATEGORIES:Kystpilegrim
LOCATION:Gurisenteret\, Edøyveien 18\, Smøla\, 6570\, Møre og Romsdal\, 
 Norway
X-APPLE-STRUCTURED-LOCATION;VALUE=URI;X-ADDRESS=Edøyveien 18\, Smøla\, 65
 70\, Møre og Romsdal\, Norway;X-APPLE-RADIUS=100;X-TITLE=Gurisenteret:geo
 :0,0
END:VEVENT
BEGIN:VTIMEZONE
TZID:Europe/Oslo
X-LIC-LOCATION:Europe/Oslo
BEGIN:DAYLIGHT
DTSTART:20230326T030000
TZOFFSETFROM:+0100
TZOFFSETTO:+0200
TZNAME:CEST
END:DAYLIGHT
END:VTIMEZONE
END:VCALENDAR