BEGIN:VCALENDAR
VERSION:2.0
PRODID:-//wp-events-plugin.com//7.2.3.1//EN
BEGIN:VEVENT
UID:113@pilegrimsfellesskapet.no
DTSTART;TZID=Europe/Oslo:20211102T100000
DTEND;TZID=Europe/Oslo:20211102T153000
DTSTAMP:20211012T083728Z
URL:https://www.pilegrimsfellesskapet.no/arrangement/pilegrimskonferanse-o
 sterdalsleden/
SUMMARY:Pilegrimskonferanse Østerdalsleden
DESCRIPTION:Nettverket for Østerdalsleden og Nasjonalt pilegrimssenter inv
 iterer alle pilegrimsinteressenter til konferanse om Østerdalsleden.
ATTACH;FMTTYPE=image/jpeg:https://www.pilegrimsfellesskapet.no/wp-content/
 uploads/2017/04/sterdalsleden.jpg
CATEGORIES:Møter,Østerdalsleden
LOCATION:Lia gård\, Koppang\, Koppang\, 2480\, Innlandet\, Norway
X-APPLE-STRUCTURED-LOCATION;VALUE=URI;X-ADDRESS=Koppang\, Koppang\, 2480\, 
 Innlandet\, Norway;X-APPLE-RADIUS=100;X-TITLE=Lia gård:geo:0,0
END:VEVENT
BEGIN:VTIMEZONE
TZID:Europe/Oslo
X-LIC-LOCATION:Europe/Oslo
BEGIN:STANDARD
DTSTART:20211031T020000
TZOFFSETFROM:+0200
TZOFFSETTO:+0100
TZNAME:CET
END:STANDARD
END:VTIMEZONE
END:VCALENDAR