BEGIN:VCALENDAR
VERSION:2.0
PRODID:-//wp-events-plugin.com//7.2.3.1//EN
BEGIN:VEVENT
UID:306@pilegrimsfellesskapet.no
DTSTART;TZID=Europe/Oslo:20231018T190000
DTEND;TZID=Europe/Oslo:20231018T210000
DTSTAMP:20231010T185809Z
URL:https://www.pilegrimsfellesskapet.no/arrangement/pilegrimskveld-med-kj
 ell-arnold-nyhus/
SUMMARY:Pilegrimskveld med Kjell Arnold Nyhus
DESCRIPTION:Pilegrimssenter Hamar inviterer til en ny pilegrimskveld med pi
 legrimsvandrer\, prest og forfatter Kjell Arnold Nyhus. 
ATTACH;FMTTYPE=image/jpeg:https://www.pilegrimsfellesskapet.no/wp-content/
 uploads/2023/09/Pilegrimsbilde-fra-FB-Santa-Gjertrud.jpg
CATEGORIES:Møter
LOCATION:Pilegrimssenter Hamar\, Storhamargata 125\, Hamar\, 2315\, Innland
 et\, Norway
X-APPLE-STRUCTURED-LOCATION;VALUE=URI;X-ADDRESS=Storhamargata 125\, Hamar\,
  2315\, Innlandet\, Norway;X-APPLE-RADIUS=100;X-TITLE=Pilegrimssenter Hama
 r:geo:0,0
END:VEVENT
BEGIN:VTIMEZONE
TZID:Europe/Oslo
X-LIC-LOCATION:Europe/Oslo
BEGIN:DAYLIGHT
DTSTART:20230326T030000
TZOFFSETFROM:+0100
TZOFFSETTO:+0200
TZNAME:CEST
END:DAYLIGHT
END:VTIMEZONE
END:VCALENDAR