BEGIN:VCALENDAR
VERSION:2.0
PRODID:-//wp-events-plugin.com//7.2.3.1//EN
BEGIN:VEVENT
UID:484@pilegrimsfellesskapet.no
DTSTART;TZID=Europe/Oslo:20250409T190000
DTEND;TZID=Europe/Oslo:20250409T210000
DTSTAMP:20250401T201946Z
URL:https://www.pilegrimsfellesskapet.no/arrangement/pilegrimskveld-om-kvi
 te-kyrkjer-pa-pilegrimssenter-hamar/
SUMMARY:Pilegrimskveld om Kvite kyrkjer på Pilegrimssenter Hamar
DESCRIPTION:PIlegrimssenter Hamar inviterer til pilegrimskveld om “Kvite 
 kyrkjer” - Pilegrimsleden rundt Tinnsjøen i Telemark. Kristin Øveraas 
 deler av sine erfaringer.
ATTACH;FMTTYPE=image/jpeg:https://www.pilegrimsfellesskapet.no/wp-content/
 uploads/2022/04/Kvite-Kyrkjer.jpg
CATEGORIES:Møter
LOCATION:Pilegrimssenter Hamar\, Storhamargata 125\, Hamar\, 2315\, Innland
 et\, Norway
X-APPLE-STRUCTURED-LOCATION;VALUE=URI;X-ADDRESS=Storhamargata 125\, Hamar\,
  2315\, Innlandet\, Norway;X-APPLE-RADIUS=100;X-TITLE=Pilegrimssenter Hama
 r:geo:0,0
END:VEVENT
BEGIN:VTIMEZONE
TZID:Europe/Oslo
X-LIC-LOCATION:Europe/Oslo
BEGIN:DAYLIGHT
DTSTART:20250330T030000
TZOFFSETFROM:+0100
TZOFFSETTO:+0200
TZNAME:CEST
END:DAYLIGHT
END:VTIMEZONE
END:VCALENDAR