BEGIN:VCALENDAR
VERSION:2.0
PRODID:-//wp-events-plugin.com//7.2.3.1//EN
BEGIN:VEVENT
UID:195@pilegrimsfellesskapet.no
DTSTART;TZID=Europe/Oslo:20230803T000000
DTEND;TZID=Europe/Oslo:20230806T000000
DTSTAMP:20230126T192806Z
URL:https://www.pilegrimsfellesskapet.no/arrangement/pilegrimsleden-fra-bu
 dsjord-til-kongsvoll/
SUMMARY:Pilegrimsleden fra Budsjord til Kongsvoll
DESCRIPTION:Vandring langs pilegrimsleden fra Budsjord til Kongsvoll (38 km
 )\, en del av pilegrimsleden fra Oslo til Nidaros med Lev Nå.
ATTACH;FMTTYPE=image/jpeg:https://www.pilegrimsfellesskapet.no/wp-content/
 uploads/2021/01/sign-saint-olav-way-dovre.jpg
CATEGORIES:Fellesturer,Langvandring
END:VEVENT
BEGIN:VTIMEZONE
TZID:Europe/Oslo
X-LIC-LOCATION:Europe/Oslo
BEGIN:DAYLIGHT
DTSTART:20230326T030000
TZOFFSETFROM:+0100
TZOFFSETTO:+0200
TZNAME:CEST
END:DAYLIGHT
END:VTIMEZONE
END:VCALENDAR