BEGIN:VCALENDAR
VERSION:2.0
PRODID:-//wp-events-plugin.com//7.2.3.1//EN
BEGIN:VEVENT
UID:53@pilegrimsfellesskapet.no
DTSTART;TZID=Europe/Oslo:20210531T090000
DTEND;TZID=Europe/Oslo:20210602T090000
DTSTAMP:20210116T195320Z
URL:https://www.pilegrimsfellesskapet.no/arrangement/pilegrimsleden-over-s
 agaoya-i-vest/
SUMMARY:Pilegrimsleden over sagaøya i vest
DESCRIPTION:Regionalt pilegrimssenter Avaldsnes inviterer til vandringer ov
 er sagaøya i vest.
ATTACH;FMTTYPE=image/jpeg:https://www.pilegrimsfellesskapet.no/wp-content/
 uploads/2021/01/Pilegrimer-på-Karmøy.jpg
CATEGORIES:Fellesturer,Kystpilegrim,Langvandring
LOCATION:Falnes kirke\, Falnesveien 1\, Skudeneshavn\, 4280\, Norway
X-APPLE-STRUCTURED-LOCATION;VALUE=URI;X-ADDRESS=Falnesveien 1\, Skudeneshav
 n\, 4280\, Norway;X-APPLE-RADIUS=100;X-TITLE=Falnes kirke:geo:0,0
END:VEVENT
BEGIN:VTIMEZONE
TZID:Europe/Oslo
X-LIC-LOCATION:Europe/Oslo
BEGIN:DAYLIGHT
DTSTART:20210328T030000
TZOFFSETFROM:+0100
TZOFFSETTO:+0200
TZNAME:CEST
END:DAYLIGHT
END:VTIMEZONE
END:VCALENDAR