BEGIN:VCALENDAR
VERSION:2.0
PRODID:-//wp-events-plugin.com//7.2.3.1//EN
BEGIN:VEVENT
UID:271@pilegrimsfellesskapet.no
DTSTART;TZID=Europe/Oslo:20230604T100000
DTEND;TZID=Europe/Oslo:20230604T170000
DTSTAMP:20230504T173218Z
URL:https://www.pilegrimsfellesskapet.no/arrangement/pilegrimsledens-dag-f
 ra-halle-kirkested-til-munkeby-klosterruiner/
SUMMARY:Pilegrimsledens dag fra Halle kirkested til Munkeby klosterruiner
DESCRIPTION:Pilegrimsplassen arrangerer pilegrimsvandring fra Halle kirkest
 ed til Munkeby klosterruiner på Pilegrimsledens dag 4. juni.
ATTACH;FMTTYPE=image/jpeg:https://www.pilegrimsfellesskapet.no/wp-content/
 uploads/2022/05/munkeby-klosterruin.jpg
CATEGORIES:Dagsvandring
LOCATION:Halle kirkested\, Søre Hallan\, Verdal\, Trøndelag\, Norway
X-APPLE-STRUCTURED-LOCATION;VALUE=URI;X-ADDRESS=Søre Hallan\, Verdal\, Tr
 øndelag\, Norway;X-APPLE-RADIUS=100;X-TITLE=Halle kirkested:geo:0,0
END:VEVENT
BEGIN:VTIMEZONE
TZID:Europe/Oslo
X-LIC-LOCATION:Europe/Oslo
BEGIN:DAYLIGHT
DTSTART:20230326T030000
TZOFFSETFROM:+0100
TZOFFSETTO:+0200
TZNAME:CEST
END:DAYLIGHT
END:VTIMEZONE
END:VCALENDAR