BEGIN:VCALENDAR
VERSION:2.0
PRODID:-//wp-events-plugin.com//7.2.3.1//EN
BEGIN:VEVENT
UID:240@pilegrimsfellesskapet.no
DTSTART;TZID=Europe/Oslo:20230604T120000
DTEND;TZID=Europe/Oslo:20230604T160000
DTSTAMP:20230313T090202Z
URL:https://www.pilegrimsfellesskapet.no/arrangement/pilegrimsledens-dag-i
 -asker/
SUMMARY:Pilegrimsledens dag i Asker
DESCRIPTION:Pilegrimsforeningen St. Hallvard av Huseby inviterer til felles
  vandring fra Vardåsen kirke til Asker Museum\, til sammen ca. 6 km.
ATTACH;FMTTYPE=image/jpeg:https://www.pilegrimsfellesskapet.no/wp-content/
 uploads/2020/06/85239589_2533116793622745_892349953337196544_n.png
CATEGORIES:Dagsvandring,Pilegrimsforeningen St. Hallvard av Huseby
LOCATION:Vardåsen kirke\, Vardefaret 40\, Asker\, 1388\, Viken\, Norway
X-APPLE-STRUCTURED-LOCATION;VALUE=URI;X-ADDRESS=Vardefaret 40\, Asker\, 138
 8\, Viken\, Norway;X-APPLE-RADIUS=100;X-TITLE=Vardåsen kirke:geo:0,0
END:VEVENT
BEGIN:VTIMEZONE
TZID:Europe/Oslo
X-LIC-LOCATION:Europe/Oslo
BEGIN:DAYLIGHT
DTSTART:20230326T030000
TZOFFSETFROM:+0100
TZOFFSETTO:+0200
TZNAME:CEST
END:DAYLIGHT
END:VTIMEZONE
END:VCALENDAR