BEGIN:VCALENDAR
VERSION:2.0
PRODID:-//wp-events-plugin.com//7.2.3.1//EN
BEGIN:VEVENT
UID:86@pilegrimsfellesskapet.no
DTSTART;TZID=Europe/Oslo:20210606T110000
DTEND;TZID=Europe/Oslo:20210606T143000
DTSTAMP:20210531T200400Z
URL:https://www.pilegrimsfellesskapet.no/arrangement/pilegrimsledens-dag-i
 -sarpsborg/
SUMMARY:Pilegrimsledens dag i Sarpsborg
DESCRIPTION:Pilegrimsfellesskapet Sta Maria markerer pilegrimsledens dag og
  er med i gudstjenesten i Sarpsborg kirke\, med etterfølgende vandring mo
 t Hafslund. 
ATTACH;FMTTYPE=image/jpeg:https://www.pilegrimsfellesskapet.no/wp-content/
 uploads/2021/05/Pilegrimsledens-dag-Sarpsborg.jpg
CATEGORIES:Dagsvandring
LOCATION:Sarpsborg kirke\, Glengsgata 33\, Sarpsborg\, 1707\, Viken\, Norwa
 y
X-APPLE-STRUCTURED-LOCATION;VALUE=URI;X-ADDRESS=Glengsgata 33\, Sarpsborg\,
  1707\, Viken\, Norway;X-APPLE-RADIUS=100;X-TITLE=Sarpsborg kirke:geo:0,0
END:VEVENT
BEGIN:VTIMEZONE
TZID:Europe/Oslo
X-LIC-LOCATION:Europe/Oslo
BEGIN:DAYLIGHT
DTSTART:20210328T030000
TZOFFSETFROM:+0100
TZOFFSETTO:+0200
TZNAME:CEST
END:DAYLIGHT
END:VTIMEZONE
END:VCALENDAR