BEGIN:VCALENDAR
VERSION:2.0
PRODID:-//wp-events-plugin.com//7.2.3.1//EN
BEGIN:VEVENT
UID:7@pilegrimsfellesskapet.no
DTSTART;TZID=Europe/Oslo:20200607T110000
DTEND;TZID=Europe/Oslo:20200607T153000
DTSTAMP:20200605T162415Z
URL:https://www.pilegrimsfellesskapet.no/arrangement/pilegrimsledens-dag-o
 sterdalsleden-20-ar/
SUMMARY:Pilegrimsledens dag - Østerdalsleden 20 år!
DESCRIPTION:[caption id="attachment_29954" align="alignnone" width="300"] S
 tein med pilegrimsmerke[/caption]\n\nI anledning Pilegrimsledens dag marke
 rer vi at Østerdalsleden fyller 20 i år! Mange har gledet seg til å kun
 ne gå pilegrimsvandring\, og det er på tide å åpne sesongen!\nDette bl
 ir vår "blåtur" - nødvendige detaljer tilsendes de påmeldte.\nVandring
 en blir på 16 km\, med matpause etter 10 km\, og målet er selvsagt ved N
 idarosdomen. Det er mulig å ta buss til oppmøtested.\nTa med matpakke og
  drikke!\n\nI år går vi i smågruppe\, og passer på smittevernsregler s
 om gjelder alle deltakere.\n- Hold god hånd- og hostehygiene! Hvor det ik
 ke finnes vaskemuligheter\, bruk hånddesinfiserende.\n- Hold avstand! (mi
 nst en meter avstand\, ingen håndhilsing\, ingen klemmer)\n- Er du syk? D
 a ber vi at du holder deg hjemme denne gangen.\n- Antall begrenses.\n- På
 melding er påkrevd! Arrangør må ha oversikt over deltakere pga evt. smi
 ttesporing\, derfor er vi nødt til å ta påmelding. Påmelding skjer via
  e-post til nidaros.pilgrim@gmail.com eller pr. sms til 90147246. Du treng
 er å skrive ditt fulle navn\, og navnet til den som evt. blir med deg i t
 illegg. Det er altså ikke nok å melde interesse på facebook.\n\nVel mø
 tt!\n\n:-)\n\nArr. Nidarosutvalget\, Pilegrimsfellesskapet St. Olav
CATEGORIES:Dagsvandring,Vandring
LOCATION:Trondheim\, Trondheim\, Trondheim\, Norway
X-APPLE-STRUCTURED-LOCATION;VALUE=URI;X-ADDRESS=Trondheim\, Trondheim\, Nor
 way;X-APPLE-RADIUS=100;X-TITLE=Trondheim:geo:0,0
END:VEVENT
BEGIN:VTIMEZONE
TZID:Europe/Oslo
X-LIC-LOCATION:Europe/Oslo
BEGIN:DAYLIGHT
DTSTART:20200329T030000
TZOFFSETFROM:+0100
TZOFFSETTO:+0200
TZNAME:CEST
END:DAYLIGHT
END:VTIMEZONE
END:VCALENDAR