BEGIN:VCALENDAR
VERSION:2.0
PRODID:-//wp-events-plugin.com//7.2.3.1//EN
BEGIN:VEVENT
UID:459@pilegrimsfellesskapet.no
DTSTART;TZID=Europe/Oslo:20250613T080000
DTEND;TZID=Europe/Oslo:20250613T193000
DTSTAMP:20250602T165534Z
URL:https://www.pilegrimsfellesskapet.no/arrangement/pilegrimsleia-indre-f
 osen/
SUMMARY:Vandring på Kystpilegrimsleia i Indre Fosen
DESCRIPTION:Pilegrimsfellesskapet St. Olav - Nidaros inviterer til vandring
  på pilegrimsleden i Indre Fosen.
ATTACH;FMTTYPE=image/jpeg:https://www.pilegrimsfellesskapet.no/wp-content/
 uploads/2023/05/Reinskloster.-Pilegrimsleden.no_.jpg
CATEGORIES:Dagsvandring,Pilegrimsfellesskapet St. Olav - Nidaros
END:VEVENT
BEGIN:VTIMEZONE
TZID:Europe/Oslo
X-LIC-LOCATION:Europe/Oslo
BEGIN:DAYLIGHT
DTSTART:20250330T030000
TZOFFSETFROM:+0100
TZOFFSETTO:+0200
TZNAME:CEST
END:DAYLIGHT
END:VTIMEZONE
END:VCALENDAR