BEGIN:VCALENDAR
VERSION:2.0
PRODID:-//wp-events-plugin.com//7.2.3.1//EN
BEGIN:VEVENT
UID:389@pilegrimsfellesskapet.no
DTSTART;TZID=Europe/Oslo:20240703T000000
DTEND;TZID=Europe/Oslo:20240707T000000
DTSTAMP:20240507T140411Z
URL:https://www.pilegrimsfellesskapet.no/arrangement/pilegrimsreise-fra-st
 avanger-til-roldal-2/
SUMMARY:Pilegrimsreise fra Stavanger til Røldal
DESCRIPTION:Utstein pilegrimsgård inviterer til pilegrimstur fra Stavanger
  til Røldal med prest og biskop emeritus Erling Pettersen. Tema for vandr
 ingen er helse\, helhet og hellighet.
ATTACH;FMTTYPE=image/jpeg:https://www.pilegrimsfellesskapet.no/wp-content/
 uploads/2021/01/Røldal-stavkirke.jpg
CATEGORIES:Fellesturer,Kystpilegrim,Langvandring
LOCATION:Stavanger domkyrkje\, Stavanger\, Stavanger\, Norway
X-APPLE-STRUCTURED-LOCATION;VALUE=URI;X-ADDRESS=Stavanger\, Stavanger\, Nor
 way;X-APPLE-RADIUS=100;X-TITLE=Stavanger domkyrkje:geo:0,0
END:VEVENT
BEGIN:VTIMEZONE
TZID:Europe/Oslo
X-LIC-LOCATION:Europe/Oslo
BEGIN:DAYLIGHT
DTSTART:20240331T030000
TZOFFSETFROM:+0100
TZOFFSETTO:+0200
TZNAME:CEST
END:DAYLIGHT
END:VTIMEZONE
END:VCALENDAR