BEGIN:VCALENDAR
VERSION:2.0
PRODID:-//wp-events-plugin.com//7.2.3.1//EN
BEGIN:VEVENT
UID:101@pilegrimsfellesskapet.no
DTSTART;TZID=Europe/Oslo:20210712T074500
DTEND;TZID=Europe/Oslo:20210714T140000
DTSTAMP:20210628T152942Z
URL:https://www.pilegrimsfellesskapet.no/arrangement/pilegrimsreise-med-su
 nnmorsjekta-i-leia-etter-heilag-olav/
SUMMARY:Pilegrimsreise med Sunnmørsjekta - i leia etter Heilag Olav!
DESCRIPTION:Pilegrimsreise med Sunnmørsjekta "Anna Olava" frå nøkkelstad
 en Herøy gamle kyrkjestad\, gjennom storslått kyst- og fjordlandskap inn
  Storfjorden til Valldal.
CATEGORIES:Fellesturer,Kystpilegrim
LOCATION:Fosnavåg konserthus\, Herøy gård\, Fosnavåg\, 6090\, Møre og 
 Romsdal\, Norway
X-APPLE-STRUCTURED-LOCATION;VALUE=URI;X-ADDRESS=Herøy gård\, Fosnavåg\, 
 6090\, Møre og Romsdal\, Norway;X-APPLE-RADIUS=100;X-TITLE=Fosnavåg kons
 erthus:geo:0,0
END:VEVENT
BEGIN:VTIMEZONE
TZID:Europe/Oslo
X-LIC-LOCATION:Europe/Oslo
BEGIN:DAYLIGHT
DTSTART:20210328T030000
TZOFFSETFROM:+0100
TZOFFSETTO:+0200
TZNAME:CEST
END:DAYLIGHT
END:VTIMEZONE
END:VCALENDAR