BEGIN:VCALENDAR
VERSION:2.0
PRODID:-//wp-events-plugin.com//7.2.3.1//EN
BEGIN:VEVENT
UID:225@pilegrimsfellesskapet.no
DTSTART;TZID=Europe/Oslo;VALUE=DATE:20231005
DTEND;TZID=Europe/Oslo;VALUE=DATE:20231009
DTSTAMP:20230411T160231Z
URL:https://www.pilegrimsfellesskapet.no/arrangement/pilegrimsreise-til-va
 dstena/
SUMMARY:Pilegrimsreise til Vadstena
DESCRIPTION:\n.\n\n\n&nbsp\;\n\n\nBli med på pilegrimsreise fra Oslo til V
 adstena.  Turen er et felles prosjekt mellom Pilegrimsfelleskapet St.Hall
 vard av Oslo og Pilegrimssenter Oslo.\n\nAll informasjon ligger her\n\n&nb
 sp\;
ATTACH;FMTTYPE=image/jpeg:https://www.pilegrimsfellesskapet.no/wp-content/
 uploads/2023/03/Vadstena.png
CATEGORIES:Fellesturer,Pilegrimsfellesskapet St. Hallvard av Oslo,Vandring
END:VEVENT
BEGIN:VTIMEZONE
TZID:Europe/Oslo
X-LIC-LOCATION:Europe/Oslo
BEGIN:DAYLIGHT
DTSTART:20230326T030000
TZOFFSETFROM:+0100
TZOFFSETTO:+0200
TZNAME:CEST
END:DAYLIGHT
END:VTIMEZONE
END:VCALENDAR