BEGIN:VCALENDAR
VERSION:2.0
PRODID:-//wp-events-plugin.com//7.2.3.1//EN
BEGIN:VEVENT
UID:90@pilegrimsfellesskapet.no
DTSTART;TZID=Europe/Oslo:20210618T160000
DTEND;TZID=Europe/Oslo:20210620T210000
DTSTAMP:20210614T081052Z
URL:https://www.pilegrimsfellesskapet.no/arrangement/pilegrimsseilas-med-f
 axsen-til-gildeskal-kjerringoy-og-rorstad/
SUMMARY:Pilegrimsseilas med Faxsen til Gildeskål\, Kjerringøy og Rørstad
DESCRIPTION:Kjerringøy-\, Gildeskål-\, Sørfold- og Bodø domkirkes menig
 het i samarbeid med Pilegrimsfellesskapet St Nikolas inviterer til tur med
  M/K Faxsen.
ATTACH;FMTTYPE=image/jpeg:https://www.pilegrimsfellesskapet.no/wp-content/
 uploads/2020/06/Faxen.jpg
CATEGORIES:Fellesturer
LOCATION:Bodø\, Bodø\, Bodø\, Norway
X-APPLE-STRUCTURED-LOCATION;VALUE=URI;X-ADDRESS=Bodø\, Bodø\, Norway;X-AP
 PLE-RADIUS=100;X-TITLE=Bodø:geo:0,0
END:VEVENT
BEGIN:VTIMEZONE
TZID:Europe/Oslo
X-LIC-LOCATION:Europe/Oslo
BEGIN:DAYLIGHT
DTSTART:20210328T030000
TZOFFSETFROM:+0100
TZOFFSETTO:+0200
TZNAME:CEST
END:DAYLIGHT
END:VTIMEZONE
END:VCALENDAR