BEGIN:VCALENDAR
VERSION:2.0
PRODID:-//wp-events-plugin.com//7.2.3.1//EN
BEGIN:VEVENT
UID:480@pilegrimsfellesskapet.no
DTSTART;TZID=Europe/Oslo:20250410T190000
DTEND;TZID=Europe/Oslo:20250410T203000
DTSTAMP:20250331T093052Z
URL:https://www.pilegrimsfellesskapet.no/arrangement/pilegrimstreff-10-4-a
 rsmote-og-foredrag/
SUMMARY:Pilegrimstreff 10/4: Årsmøte og foredrag
DESCRIPTION:Pilegrimstreff 10/4: Årsmøte og foredrag\nVi inviterer deg hj
 ertelig til vårt årsmøte den 10. april\, hvor vi ser tilbake på året 
 som har vært og deler høydepunktene fra 2024. Dette blir en fin anlednin
 g til å reflektere over de minnerike øyeblikkene vi har delt\, samt å s
 e på de spennende prosjektene som ligger foran oss.\nEtter årsmøtet bli
 r det et spennende foredrag\, som vi gleder oss til å annonsere snart. De
 t blir en kveld fylt med fellesskap og inspirasjon.\nNB! Det blir enkel 
 servering\, og arrangementet er helt gratis og åpent for alle. Vi ønsker
  hjertelig velkommen til en innholdsrik og trivelig kveld i pilegrimsfelle
 sskap!\n\nProgram for kvelden:\n18:30 Pilegrimsmesse i Gamle Aker kirke v/
 pilegrimspresten i Oslo\n19:00 Samling i menighetshuset (Akersbakken 30) m
 ed enkel bevertning\n19:30 Foredrag\n20:30 Åpent hus\n\nLenke til arrange
 mangets Facebook-side.
END:VEVENT
BEGIN:VTIMEZONE
TZID:Europe/Oslo
X-LIC-LOCATION:Europe/Oslo
BEGIN:DAYLIGHT
DTSTART:20250330T030000
TZOFFSETFROM:+0100
TZOFFSETTO:+0200
TZNAME:CEST
END:DAYLIGHT
END:VTIMEZONE
END:VCALENDAR