BEGIN:VCALENDAR
VERSION:2.0
PRODID:-//wp-events-plugin.com//7.2.3.1//EN
BEGIN:VEVENT
UID:219@pilegrimsfellesskapet.no
DTSTART;TZID=Europe/Oslo:20230413T183000
DTEND;TZID=Europe/Oslo:20230413T210000
DTSTAMP:20230327T130051Z
URL:https://www.pilegrimsfellesskapet.no/arrangement/pilegrimstreff-aarsmo
 te/
SUMMARY:Årsmøte i Pilegrimsfellesskapet St.Hallvard av Oslo -  med byvand
 ring og omvisning i St.Edmund's Church
DESCRIPTION:\n\n\n[caption id="attachment_31308" align="aligncenter" width=
 "1024"] St.Edmund's Anglican Church\, Oslo[/caption]\n\n&nbsp\;\n\n\n\n\n\
 n\n\nÅrsmøtet i år innledes med en pilegrims-byvandring fra Lovisenberg
  kirke til Oslos anglikanske kirke.\nVandring og omvisning er åpen for al
 le!Kl. 18.30Vi møtes ved Lovisenberg kirke.\nDerfra går vi gjennom byen 
 til St.Edmund's Anglican Church i Møllergata 30.\nVi regner med at byvand
 ringen tar ca. 45 min. Det blir noen stopp underveis.\n\n\nKl. 19.15Vi kom
 mer frem til St.Edmund's Anglican Church.\nDere som kun ønsker å besøke
  kirka\, kan møte opp direkte her.I St.Edmund's får vi fortalt den angli
 kanske kirkens historie i Norge og vi får informasjon om kirkebygget.\nDe
 retter blir det bevertning og Årsmøte 2023 for PSH - klikk her for PSHs 
 årsmelding 2022.\n\nAlle som har betalt medlemskontingent for 2023\, har 
 stemmerett på årsmøtet - klikk her for å betale.\n\nEtter årsmøtet k
 an de som ønsker det\, delta i en kort liturgi og velsignelse i kirken. 
 Hjertelig velkommen!\n\n\n.\n\n&nbsp\;\n\n&nbsp\;\n\n \n\n&nbsp\;\n\n&nbs
 p\;\n\n&nbsp\;\n\n&nbsp\;\n\n&nbsp\;
CATEGORIES:Møter,Pilegrimsfellesskapet St. Hallvard av Oslo,Vandring
LOCATION:Lovisenberg menighetshus\, Lovisenberggata 9\, Oslo\, 0456\, Norwa
 y
X-APPLE-STRUCTURED-LOCATION;VALUE=URI;X-ADDRESS=Lovisenberggata 9\, Oslo\, 
 0456\, Norway;X-APPLE-RADIUS=100;X-TITLE=Lovisenberg menighetshus:geo:0,0
END:VEVENT
BEGIN:VTIMEZONE
TZID:Europe/Oslo
X-LIC-LOCATION:Europe/Oslo
BEGIN:DAYLIGHT
DTSTART:20230326T030000
TZOFFSETFROM:+0100
TZOFFSETTO:+0200
TZNAME:CEST
END:DAYLIGHT
END:VTIMEZONE
END:VCALENDAR