BEGIN:VCALENDAR
VERSION:2.0
PRODID:-//wp-events-plugin.com//7.2.3.1//EN
BEGIN:VEVENT
UID:444@pilegrimsfellesskapet.no
DTSTART;TZID=Europe/Oslo:20250109T183000
DTEND;TZID=Europe/Oslo:20250109T203000
DTSTAMP:20250102T125507Z
URL:https://www.pilegrimsfellesskapet.no/arrangement/pilegrimstreff-bjorne
 n-i-den-norske-og-skandinaviske-kirken-med-jahn-bore-jahnsen/
SUMMARY:Pilegrimstreff: Bjørnen i den norske og skandinaviske kirken med J
 ahn Børe Jahnsen
DESCRIPTION:\nPilegrimsfellesskapet St. Hallvard inviterer til pilegrimstre
 ff med foredrag av historiker og forfatter Jahn Børe Jahnsen.\n.\nNB! Det
  blir enkel servering. Arrangementet er gratis og åpent for alle!\n\n.\nH
 vorfor finnes bjørneskinn\, bjørnelabber\, bjørneklør og bjørnefigure
 r i så mange norske og skandinaviske kirker? Tradisjonen går trolig tilb
 ake til førkristen tid og forklares ofte med sagn og historier om jakt. S
 kinnene er gjerne votivgaver\, takk for en vellykket jakt. Skinn som ennå
  eksisterer i kirker er datert\, og slik kan sagn bekreftes eller avkrefte
 s. Deler av bjørner omtales som en del av inventaret i kirker over hele l
 andet. I 7 kirker finnes fremdeles bjørneskinn eller bjørnelabb.\n.\nJah
 n Børe Jahnsen er pensjonert lektor og museumskonservator\, middelalderhi
 storiker og forfatter. Flere bøker om kirker i Valdres. Pilegrimsvandrer 
 i 20 år. 15 år som leder for den årlige fellesvandringen langs Pilegrim
 svegen i Valdres. Bosatt i Valdres i nær 50 år\, siden 2017 i Lørenskog
 \, men bor fremdeles mye i Valdres\, særlig om sommeren.\n.\n18:30 Pilegr
 imsmesse i Gamle Aker kirke v/pilegrimspresten i Oslo19:00 Samling i menig
 hetshuset (Akersbakken 30) med enkel bevertning19:30 Foredrag20:30 Åpent 
 hus\n.\nSe arrangemanget på Facebook.\n.\n
CATEGORIES:Pilegrimsfellesskapet St. Hallvard av Oslo
LOCATION:Gamle Aker kirke\, Akersbakken 26\, Oslo\, Norway
X-APPLE-STRUCTURED-LOCATION;VALUE=URI;X-ADDRESS=Akersbakken 26\, Oslo\, Nor
 way;X-APPLE-RADIUS=100;X-TITLE=Gamle Aker kirke:geo:0,0
END:VEVENT
BEGIN:VTIMEZONE
TZID:Europe/Oslo
X-LIC-LOCATION:Europe/Oslo
BEGIN:STANDARD
DTSTART:20241027T020000
TZOFFSETFROM:+0200
TZOFFSETTO:+0100
TZNAME:CET
END:STANDARD
END:VTIMEZONE
END:VCALENDAR