BEGIN:VCALENDAR
VERSION:2.0
PRODID:-//wp-events-plugin.com//7.2.3.1//EN
BEGIN:VEVENT
UID:198@pilegrimsfellesskapet.no
DTSTART;TZID=Europe/Oslo:20230209T183000
DTEND;TZID=Europe/Oslo:20230209T210000
DTSTAMP:20230131T214213Z
URL:https://www.pilegrimsfellesskapet.no/arrangement/pilegrimstreff-hva-er
 -din-drivkraft-for-a-ga-pilegrim/
SUMMARY:Pilegrimstreff: "Hva er din drivkraft for å gå pilegrim?"
DESCRIPTION:\n\n\n.\n\n[caption id="attachment_31043" align="alignright" wi
 dth="236"] Foto: Universitetet i Sørøst-Norge[/caption]\n\n\n\n\n\nPileg
 rimsfellesskapet St. Hallvard inviterer til åpent pilegrimstreff på Lovi
 senberg i Oslo.\n\nVi får besøk av Nanna Natalia Jørgensen\, som er fø
 rsteamanuensis ved Universitetet i Sørøst-Norge. Hun ble PhD i fjor ved 
 Høgskolen i Volda\, med avhandlingen «The Therapeutic Mobilities of Pilg
 rimage Walking: A Study of the Health Impacts of Walking the Norwegian St.
  Olav Way.»\n.\nHennes hjertebarn i forskninga og personlige lidenskap er
  pilegrimsvandring som et middel til selvbevissthet\, selvutvikling og sel
 vterapi. Hennes mål er å overtale helsemyndighetene til å foreskrive pi
 legrimsvandring på «grønn resept». Hun jobber for målet gjennom perso
 nlig engasjement\, faktaformidling på ulike konferanser og gjennom akadem
 iske kanaler.\n.\nDenne kvelden vil Nanna fortelle om hvorfor hennes forsk
 ningspersoner vandrer St.Olavsleden og hva de opplever av prosesser og eff
 ekter av å gå den. Hun vil også forklare på hvilken måte dette kan vi
 se at pilegrimsvandring kan ha terapeutisk virkning.\n.\nNanna har også s
 krevet om andre emner\, slik som de sammenhengende og transkulturelle aspe
 ktene ved menneskets eksistens. Hun legger vekt på å holde en helhetlig 
 og tverrfaglig tilnærming i sitt arbeid. Privat driver hun "Preståsen pi
 legrimsherberge" ved Tunsbergleden i Sandefjord\, til glede for alle som 
 ønsker en 'hjemme hos'-overnatting på sin vei.\n.\nDet blir enkel server
 ing\, kaffe og te.\n.\nNB! VI MØTES I ALTERNATIVE LOKALER I 2023\nGamle A
 ker kirke er stengt for oppussing i 2023. Vi møtes derfor her:\n* Pilegri
 msmessene: Lovisenberg kirke (Lovisenberggata 9).\n* Pilegrimstreff: Lovis
 enberg menighetshus (Lovisenberggata 4E).\n.\nKirken og menighetshuset lig
 ger rett ved siden av hverandre ved Lovisenberg diakonale sykehus. Med bus
 s 37 fra Jernbanetorget tar det 10 minutter. Gå av på holdeplass "Lovise
 nberg" og gå Lovisenberggata rett frem. Kirka ligger til høyre og menigh
 etshuset til venstre.\n.\nVed spørsmål kontakt Anna Runesson: oslo@pileg
 rimssenter.no\, mob. 480 52 949.\n\n\n\n\n.\n\n\nPilegrimsfellesskapet St.
  Hallvard av Oslo arrangerer månedlige treff for å dele kunnskap om pile
 grimsvandringer - både nasjonalt og internasjonalt. Pilegrimstreffene fø
 lger tidsplanen nedenfor\, og alle er fri til å komme og gå når det må
 tte passe gjennom kvelden:\n\n 	18:30 Pilegrimsmesse i Lovisenberg kirke v
 /pilegrimspresten i Oslo\n 	19:00 Samling i Lovisenberg menighetshus med e
 nkel bevertning\n 	19:15 Foredrag/presentasjon av kveldens hovedtema\n 	20
 :00 Åpent hus\n\n&nbsp\;\n\nFacebook-arrangement ligger her\n\n&nbsp\;\n\
 n&nbsp\;\n\n&nbsp\;\n\n&nbsp\;\n\n \n\n&nbsp\;\n\n&nbsp\;\n\n&nbsp\;\n\n&
 nbsp\;\n\n&nbsp\;
CATEGORIES:Møter,Pilegrimsfellesskapet St. Hallvard av Oslo
LOCATION:Lovisenberg menighetshus\, Lovisenberggata 9\, Oslo\, 0456\, Norwa
 y
X-APPLE-STRUCTURED-LOCATION;VALUE=URI;X-ADDRESS=Lovisenberggata 9\, Oslo\, 
 0456\, Norway;X-APPLE-RADIUS=100;X-TITLE=Lovisenberg menighetshus:geo:0,0
END:VEVENT
BEGIN:VTIMEZONE
TZID:Europe/Oslo
X-LIC-LOCATION:Europe/Oslo
BEGIN:STANDARD
DTSTART:20221030T020000
TZOFFSETFROM:+0200
TZOFFSETTO:+0100
TZNAME:CET
END:STANDARD
END:VTIMEZONE
END:VCALENDAR