BEGIN:VCALENDAR
VERSION:2.0
PRODID:-//wp-events-plugin.com//7.2.3.1//EN
BEGIN:VEVENT
UID:37@pilegrimsfellesskapet.no
DTSTART;TZID=Europe/Oslo:20201126T163000
DTEND;TZID=Europe/Oslo:20201126T193000
DTSTAMP:20210120T153059Z
URL:https://www.pilegrimsfellesskapet.no/arrangement/pilegrimstreff-med-pr
 esentasjon/
SUMMARY:(UTSATT) Pilegrimskveld med presentasjon
DESCRIPTION:\n\nOppdatering:\nNidarosutvalget skal vurdere ny møtedato ett
 er at Nidaros pilegrimsgård åpner opp igjen i februar 2021.\n\n---\nOBS!
   Nidarosutvalget har tatt avgjørelsen om å ikke gjennomføre pilegrimsk
 veld den 26. november. Istedenfor å avlyse\, utsetter vi møtet\, og sats
 er på at vi kan gjennomføre det planlagte programmet på et senere tidsp
 unkt - i første omgang går vi for siste torsdag i januar\, med forbehold
  om eventuelle endringer.\n\n---\n\nPilegrimskveld med sosialt treff og pr
 esentasjon om Ildsjelvandringen.\n\n\nArr. Nidarosutvalget\, PSO\n\n\n
ATTACH;FMTTYPE=image/jpeg:https://www.pilegrimsfellesskapet.no/wp-content/
 uploads/2020/06/85239589_2533116793622745_892349953337196544_n.png
CATEGORIES:Møter
LOCATION:Nidaros Pilegrimsgård\, Kjøpmannsgata 1\, Trondheim\, Trøndelag
 \, 7013\, Trøndelag\, Norway
X-APPLE-STRUCTURED-LOCATION;VALUE=URI;X-ADDRESS=Kjøpmannsgata 1\, Trondhei
 m\, Trøndelag\, 7013\, Trøndelag\, Norway;X-APPLE-RADIUS=100;X-TITLE=Nid
 aros Pilegrimsgård:geo:0,0
END:VEVENT
BEGIN:VTIMEZONE
TZID:Europe/Oslo
X-LIC-LOCATION:Europe/Oslo
BEGIN:STANDARD
DTSTART:20201025T020000
TZOFFSETFROM:+0200
TZOFFSETTO:+0100
TZNAME:CET
END:STANDARD
END:VTIMEZONE
END:VCALENDAR