BEGIN:VCALENDAR
VERSION:2.0
PRODID:-//wp-events-plugin.com//7.2.3.1//EN
BEGIN:VEVENT
UID:115@pilegrimsfellesskapet.no
DTSTART;TZID=Europe/Oslo:20211014T190000
DTEND;TZID=Europe/Oslo:20211014T210000
DTSTAMP:20211125T124031Z
URL:https://www.pilegrimsfellesskapet.no/arrangement/pilegrimstreff-olavsf
 ortellinger-2/
SUMMARY:Pilegrimstreff - Olavsfortellinger
DESCRIPTION:\n\n\n[caption id="attachment_30105" align="alignnone" width="1
 024"] Olavskilden Dovre (foto Geir Bjarte Thaule)[/caption]\n\n\n\n\n\n.\n
 \nPilegrimsfellesskapet St. Hallvard inviterer til åpent pilegrimstreff.\
 n\nHans-Jacob Dahl\, daglig leder for Pilegrimssenter Dovrefjell\, vil for
 telle om Olav i folketradisjonene\, Olav i folkeminnet - hvordan fortellin
 gene om Olav har levd i folket fram til nyere tid.\n\nDette blir en intere
 ssant kveld!\n\n\n\n\n.\n\n\nPilegrimsfellesskapet St. Hallvard av Oslo ar
 rangerer månedlige treff for å dele kunnskap om pilegrimsvandringer båd
 e nasjonalt og internasjonalt. Pilegrimssenter Oslo er som regel åpent un
 der samlingene\, for den som ønsker å kjøpe pass\, bøker eller annet i
  pilegrimsbutikken. Pilegrimstreffene følger tidsplanen nedenfor\, og all
 e er fri til å komme og gå når det måtte passe gjennom kvelden:\n\n 	1
 8:30 Pilegrimsmesse i Gamle Aker kirke v/pilegrimspresten i Oslo\n 	19:00 
 Samling i Pilegrimssenter Oslo (Akersbakken 30) med enkel bevertning\n 	19
 :15 Foredrag/presentasjon av kveldens hovedtema\n 	20:00 Åpent hus\n\n&nb
 sp\;\n\n&nbsp\;\n\n&nbsp\;\n\n&nbsp\;\n\n&nbsp\;\n\n \n\n&nbsp\;\n\n&nbsp
 \;\n\n&nbsp\;\n\n&nbsp\;\n\n&nbsp\;
CATEGORIES:Møter,Pilegrimsfellesskapet St. Hallvard av Oslo
LOCATION:Pilegrimssenter Oslo\, Akersbakken 30\, Oslo\, Oslo\, Norway
X-APPLE-STRUCTURED-LOCATION;VALUE=URI;X-ADDRESS=Akersbakken 30\, Oslo\, Osl
 o\, Norway;X-APPLE-RADIUS=100;X-TITLE=Pilegrimssenter Oslo:geo:0,0
END:VEVENT
BEGIN:VTIMEZONE
TZID:Europe/Oslo
X-LIC-LOCATION:Europe/Oslo
BEGIN:DAYLIGHT
DTSTART:20210328T030000
TZOFFSETFROM:+0100
TZOFFSETTO:+0200
TZNAME:CEST
END:DAYLIGHT
END:VTIMEZONE
END:VCALENDAR