BEGIN:VCALENDAR
VERSION:2.0
PRODID:-//wp-events-plugin.com//7.2.3.1//EN
BEGIN:VEVENT
UID:430@pilegrimsfellesskapet.no
DTSTART;TZID=Europe/Oslo:20241128T190000
DTEND;TZID=Europe/Oslo:20241128T210000
DTSTAMP:20241115T094636Z
URL:https://www.pilegrimsfellesskapet.no/arrangement/pilegrimstreff-riedl/
SUMMARY:Pilegrimstreff: «Om å være pilegrim med konfirmanter i Roma» me
 d Nils Jøran Riedl
DESCRIPTION:Pilegrimsfellesskapet St. Hallvard inviterer til pilegrimstreff
  der Nils Jøran Riedl forteller om å være pilegrim med konfirmanter i R
 oma.
ATTACH;FMTTYPE=image/jpeg:https://www.pilegrimsfellesskapet.no/wp-content/
 uploads/2024/11/Riedl.png
CATEGORIES:Møter,Pilegrimsfellesskapet St. Hallvard av Oslo
LOCATION:Gamle Aker kirke\, Akersbakken 26\, Oslo\, Norway
X-APPLE-STRUCTURED-LOCATION;VALUE=URI;X-ADDRESS=Akersbakken 26\, Oslo\, Nor
 way;X-APPLE-RADIUS=100;X-TITLE=Gamle Aker kirke:geo:0,0
END:VEVENT
BEGIN:VTIMEZONE
TZID:Europe/Oslo
X-LIC-LOCATION:Europe/Oslo
BEGIN:STANDARD
DTSTART:20241027T020000
TZOFFSETFROM:+0200
TZOFFSETTO:+0100
TZNAME:CET
END:STANDARD
END:VTIMEZONE
END:VCALENDAR