BEGIN:VCALENDAR
VERSION:2.0
PRODID:-//wp-events-plugin.com//7.2.3.1//EN
BEGIN:VEVENT
UID:324@pilegrimsfellesskapet.no
DTSTART;TZID=Europe/Oslo:20240307T183000
DTEND;TZID=Europe/Oslo:20240307T210000
DTSTAMP:20240223T194345Z
URL:https://www.pilegrimsfellesskapet.no/arrangement/pilegrimstreff-svensk
 /
SUMMARY:Pilegrimstreff: Vi besøker Svenska kyrkan i Oslo - Margaretakyrkan
  på Hammersborg
DESCRIPTION:\n\n***\n\n\nPilegrimsfellesskapet St. Hallvard inviterer til 
 åpent pilegrimstreff i den svenske kirken på Hammersborg i Oslo.\n.\nKyr
 koherde Per Anders Sandgren tar imot oss og forteller om Margaretakyrkans 
 spennende historikk.\nHer ble det servert Svenskesuppe under 2.verdenskrig
 \, og flere som flyktet/vandret til Sverige på 1940-tallet\, returnerte t
 il Oslo med svenske ektefeller og har hørt til her siden.\n\nKirka har si
 tt navn etter den britiske Margareta\, dagens kong Carl XVI Gustavs farmor
 . (Margaretas farmor var dronning Victoria.)\n.\nSandgren holder pilegrims
 messe kl. 1830 og starter historievandringen kl. 1900.\n.\n\nArrangementet
  er gratis\, og åpent for alle. Ingen påmelding. Hjertelig velkommen!\n.
 \n\nVeibeskrivelse. \n******\nMerk også at det er torsdagskonserter i Ma
 rgaretakyrkan både 22.februar og 21.mars.\n\n******\n\nPilegrimsfellesska
 pet St. Hallvard av Oslo arrangerer månedlige treff for å dele kunnskap 
 om pilegrimsvandringer – både nasjonalt og internasjonalt. Pilegrimstre
 ffene følger tidsplanen nedenfor\, og alle er fri til å komme og gå nå
 r det måtte passe gjennom kvelden:\n\n18:30 Pilegrimsmesse\n19:00 Samling
  med enkel bevertning og foredrag/presentasjon av kveldens hovedtema\n\n\n
 \n\n.\nFacebook-arrangement ligger her\n&nbsp\;\n\n&nbsp\;\n\n&nbsp\;\n\n&
 nbsp\;\n\n \n\n&nbsp\;\n\n&nbsp\;\n\n&nbsp\;\n\n&nbsp\;\n\n&nbsp\;
ATTACH;FMTTYPE=image/jpeg:https://www.pilegrimsfellesskapet.no/wp-content/
 uploads/2024/01/svenske-Oslo.jpg
CATEGORIES:Møter,Pilegrimsfellesskapet St. Hallvard av Oslo
LOCATION:Svenska kyrkan i Oslo\, Hammersborg torg 8B\, Oslo\, Norway
X-APPLE-STRUCTURED-LOCATION;VALUE=URI;X-ADDRESS=Hammersborg torg 8B\, Oslo\
 , Norway;X-APPLE-RADIUS=100;X-TITLE=Svenska kyrkan i Oslo:geo:0,0
END:VEVENT
BEGIN:VTIMEZONE
TZID:Europe/Oslo
X-LIC-LOCATION:Europe/Oslo
BEGIN:STANDARD
DTSTART:20231029T020000
TZOFFSETFROM:+0200
TZOFFSETTO:+0100
TZNAME:CET
END:STANDARD
END:VTIMEZONE
END:VCALENDAR